BEGIN:VCALENDAR
VERSION:2.0
PRODID:-//ChamberMaster//Event Calendar 2.0//EN
METHOD:PUBLISH
X-PUBLISHED-TTL:P3D
REFRESH-INTERVAL:P3D
CALSCALE:GREGORIAN
BEGIN:VEVENT
DTSTART:20260429T220000Z
DTEND:20260429T233000Z
X-MICROSOFT-CDO-ALLDAYEVENT:FALSE
SUMMARY:Grief Matters: Notes of Remembrance: A Hands-On Workshop in Musical Legacy
DESCRIPTION:Music is more than just something we hear\; it is something we create and carry with us. Join us for an interactive session where we explore the power of intentional music-making as a tool for navigation through loss. In this workshop\, we will move beyond passive listening to engage in:\n\n	Active Singing: Using the voice as a physical release for emotion.\n	Playlist Creation: Crafting personal "soundtracks for healing" to support different stages of your day.\n	Lyric Analysis: Deep-diving into the words that mirror our internal experiences.\n	Musical Memory Making: Learning how to anchor precious memories to specific melodies or musical styles\n\nFacilitated by Licensed Professional Music Therapist\, Jennifer Yurkovich\, MS\, LPMT\, MT-BC
X-ALT-DESC;FMTTYPE=text/html:Music is more than just something we hear\; it is something we create and carry with us. Join us for an interactive session where we explore the power of intentional music-making as a tool for navigation through loss. In this workshop\, we will move beyond passive listening to engage in:\n<ul>\n	<li><strong>Active Singing:</strong> Using the voice as a physical release for emotion.</li>\n	<li><strong>Playlist Creation:</strong> Crafting personal &ldquo\;soundtracks for healing&rdquo\; to support different stages of your day.</li>\n	<li><strong>Lyric Analysis: </strong>Deep-diving into the words that mirror our internal experiences.</li>\n	<li><strong>Musical Memory Making:</strong> Learning how to anchor precious memories to specific melodies or musical styles</li>\n</ul>\nFacilitated by Licensed Professional Music Therapist\, Jennifer Yurkovich\, MS\, LPMT\, MT-BC
LOCATION:Cornerstone of Hope 253 N. State Street\, Suite 200 Westerville\, Ohio 43081 Free parking surrounding the building. Elevator and stair access to event.
UID:e.1186.14600
SEQUENCE:3
DTSTAMP:20260422T085207Z
URL:http://business.westervillechamber.com/events/details/grief-matters-notes-of-remembrance-a-hands-on-workshop-in-musical-legacy-14600
END:VEVENT

END:VCALENDAR
