BEGIN:VCALENDAR
VERSION:2.0
PRODID:-//ChamberMaster//Event Calendar 2.0//EN
METHOD:PUBLISH
X-PUBLISHED-TTL:P3D
REFRESH-INTERVAL:P3D
CALSCALE:GREGORIAN
BEGIN:VEVENT
DTSTART:20240717T160000Z
DTEND:20240717T160000Z
X-MICROSOFT-CDO-ALLDAYEVENT:FALSE
SUMMARY:$20 Fundraiser: Westerville South Girls Soccer
DESCRIPTION:Friends\, Clients\, Family and Westerville residents: Support local Westerville businesses and Westerville South Girls Soccer!\n\n\n\nAttached is a fundraiser for my daughter Charlotte's high school soccer team\, Westerville South. Funds raised will be used for WSHS team athletic apparel (T-shirts\, rain jackets)\, soccer equipment for the program\, and athletic expenses for the team.\n\n\n\nDiscount cards are $20 and offer discounts at 24 different Westerville businesses\, through 9/01/2025!\n\n\n\nIf interested\, Charlotte or I will deliver the card to you.\n\n\n\nThanks\, Mark Sotherden EMC Realty\n\n\n\nFamily and friends who live out of town and would not be able to use the local card\, you can still support the team by using the following link to make an online donation. https://westerville-south-girls-soccer.cheddarup.com/
X-ALT-DESC;FMTTYPE=text/html:<div>\n<div>Friends\, Clients\, Family and Westerville residents: Support local Westerville businesses and Westerville South Girls Soccer!</div>\n</div>\n\n<div>\n<div>Attached is a fundraiser for my daughter Charlotte&#39\;s high school soccer team\, Westerville South. Funds raised will be used for WSHS team athletic apparel (T-shirts\, rain jackets)\, soccer equipment for the program\, and athletic expenses for the team.</div>\n</div>\n\n<div>\n<div>Discount cards are $20 and offer discounts at 24 different Westerville businesses\, through 9/01/2025!</div>\n</div>\n\n<div>\n<div>If interested\, Charlotte or I will deliver the card to you.</div>\n</div>\n\n<div>\n<div>Thanks\, Mark Sotherden EMC Realty</div>\n</div>\n\n<div>\n<div>Family and friends who live out of town and would not be able to use the local card\, you can still support the team by using the following link to make an online donation. <span style="font-family:inherit"><a class="x1i10hfl xjbqb8w x1ejq31n xd10rxx x1sy0etr x17r0tee x972fbf xcfux6l x1qhh985 xm0m39n x9f619 x1ypdohk xt0psk2 xe8uvvx xdj266r x11i5rnm xat24cr x1mh8g0r xexx8yu x4uap5 x18d9i69 xkhd6sd x16tdsg8 x1hl2dhg xggy1nq x1a2a7pz x1sur9pj xkrqix3 x1fey0fg" href="https://l.facebook.com/l.php?u=https%3A%2F%2Fwesterville-south-girls-soccer.cheddarup.com%2F%3Ffbclid%3DIwZXh0bgNhZW0CMTAAAR3l7m3G1XUYr2zn7B7J9K9T5iU3Q96BKr7wEIhRgakNqelqdCFEIIUmx6E_aem_DqJpsDsjqPGn2FCcKFDMlw&amp\;h=AT1kFB-s-DH2_pvD-hC5rYZ2WQ058480-o-cryMgvz1BexX_p5_D3BQ0LfrpTzMr1I_qhWOvpgqWS37IjYh0gTmZv81j1q9AYXGEEnbGh2iCZz_pKNUGamqnwfMc79o5lhWJ3XY&amp\;__tn__=-UK-R&amp\;c[0]=AT3AalQ4jsYxBF4p0OlagIefoE7TAKpywY8S_bDKjIbJEnmLhA98Sbl6Cq2yDfzL9JzCE7ZGfFJ0GYPXHMl1ydgxYPjj6HHWAQ0hHVrlmInMq_9Tsl72x52DQyNmRl9MbrOWLz_IPsp-UTjxhUd6RMVDGrDLmqSp6B5q-KckR4ED5uwE3nLxwQ" rel="nofollow noreferrer" style="cursor: pointer\; text-decoration-line: none\; list-style: none\; margin: 0px\; text-align: inherit\; border-style: none\; padding: 0px\; border-width: 0px\; box-sizing: border-box\; outline: none\; -webkit-tap-highlight-color: transparent\; touch-action: manipulation\; background-color: transparent\; display: inline\; font-family: inherit\; animation-name: none !important\; transition-property: none !important\;" tabindex="0" target="_blank">https://westerville-south-girls-soccer.cheddarup.com/</a></span></div>\n</div>\n
LOCATION:If interested\, call/text Mark Sotherden at 614-849-8668 or email at mark@emc-realty.com
UID:e.1186.12272
SEQUENCE:3
DTSTAMP:20260422T141150Z
URL:https://business.westervillechamber.com/events/details/20-fundraiser-westerville-south-girls-soccer-12272
END:VEVENT

END:VCALENDAR
