BEGIN:VCALENDAR
VERSION:2.0
PRODID:-//ChamberMaster//Event Calendar 2.0//EN
METHOD:PUBLISH
X-PUBLISHED-TTL:P3D
REFRESH-INTERVAL:P3D
CALSCALE:GREGORIAN
BEGIN:VEVENT
DTSTART:20210923T123000Z
DTEND:20210923T173000Z
X-MICROSOFT-CDO-ALLDAYEVENT:FALSE
SUMMARY:2021 Executive’s Guide to Nonprofit Success – Columbus
DESCRIPTION:Join HW Nonprofit Advisors for this annual\, in-person seminar on nonprofit success strategies. We'll take a deep dive into topics that are challenging nonprofits and offer actionable solutions. This event taking place in Columbus is on September 23rd at Quest Conference Center Westerville. There is no charge for nonprofit leadership and board members to attend\, but registration is limited.\n\n \n\nJoin us for an exclusive half-day seminar\n\ndiscussing the changes and new challenges\n\nfacing nonprofits since the pandemic.\n\n \n\nPlanned giving\, state of the industry\,\n\ncybersecurity\, and more!\n\nNo charge for nonprofit leadership and board members (limited availability)
X-ALT-DESC;FMTTYPE=text/html:<p style="box-sizing: border-box\; margin: 0px 0px 10px\; line-height: 1.7\; color: rgb(0\, 0\, 0)\; font-family: tp-raleway\, Raleway\, museo-sans\, verdana\, helvetica\, arial\; font-size: 16px\;"><span style="box-sizing: border-box\; font-size: 14pt\;">Join HW Nonprofit Advisors for this annual\, in-person seminar on nonprofit success strategies. We&rsquo\;ll take a deep dive into topics that are challenging nonprofits and offer actionable solutions. This event taking place in Columbus is on September 23rd at&nbsp\;<span style="box-sizing: border-box\; font-weight: 700\;">Quest Conference Center Westerville. There is no charge for nonprofit leadership and board members to attend\, but registration is limited.</span></span></p>\n\n<p style="box-sizing: border-box\; margin: 0px 0px 10px\; line-height: 1.7\; color: rgb(0\, 0\, 0)\; font-family: tp-raleway\, Raleway\, museo-sans\, verdana\, helvetica\, arial\; font-size: 16px\;">&nbsp\;</p>\n\n<p style="box-sizing: border-box\; margin: 0px 0px 10px\; line-height: 1.7\; color: rgb(0\, 0\, 0)\; font-family: tp-raleway\, Raleway\, museo-sans\, verdana\, helvetica\, arial\; font-size: 16px\; text-align: center\;"><span style="box-sizing: border-box\; font-size: 18pt\;">Join us for an exclusive half-day seminar</span></p>\n\n<p style="box-sizing: border-box\; margin: 0px 0px 10px\; line-height: 1.7\; color: rgb(0\, 0\, 0)\; font-family: tp-raleway\, Raleway\, museo-sans\, verdana\, helvetica\, arial\; font-size: 16px\; text-align: center\;"><span style="box-sizing: border-box\; font-size: 18pt\;">discussing the changes and new challenges</span></p>\n\n<p style="box-sizing: border-box\; margin: 0px 0px 10px\; line-height: 1.7\; color: rgb(0\, 0\, 0)\; font-family: tp-raleway\, Raleway\, museo-sans\, verdana\, helvetica\, arial\; font-size: 16px\; text-align: center\;"><span style="box-sizing: border-box\; font-size: 18pt\;">facing nonprofits since the pandemic.</span></p>\n\n<p style="box-sizing: border-box\; margin: 0px 0px 10px\; line-height: 1.7\; color: rgb(0\, 0\, 0)\; font-family: tp-raleway\, Raleway\, museo-sans\, verdana\, helvetica\, arial\; font-size: 16px\;">&nbsp\;</p>\n\n<p style="box-sizing: border-box\; margin: 0px 0px 10px\; line-height: 1.7\; color: rgb(0\, 0\, 0)\; font-family: tp-raleway\, Raleway\, museo-sans\, verdana\, helvetica\, arial\; font-size: 16px\; text-align: center\;"><span style="box-sizing: border-box\; font-size: 18pt\;">Planned giving\, state of the industry\,</span></p>\n\n<p style="box-sizing: border-box\; margin: 0px 0px 10px\; line-height: 1.7\; color: rgb(0\, 0\, 0)\; font-family: tp-raleway\, Raleway\, museo-sans\, verdana\, helvetica\, arial\; font-size: 16px\; text-align: center\;"><span style="box-sizing: border-box\; font-size: 18pt\;">cybersecurity\, and more!</span></p>\n\n<p style="box-sizing: border-box\; margin: 0px 0px 10px\; line-height: 1.7\; color: rgb(0\, 0\, 0)\; font-family: tp-raleway\, Raleway\, museo-sans\, verdana\, helvetica\, arial\; font-size: 16px\; text-align: center\;"><span style="box-sizing: border-box\; font-size: 18pt\;">No charge for nonprofit leadership and board members (limited availability)</span></p>\n
LOCATION:Quest Conference Center 9200 Worthington Road Westerville\, OH 43240
UID:e.1186.5449
SEQUENCE:3
DTSTAMP:20260422T024619Z
URL:https://business.westervillechamber.com/events/details/2021-executive-s-guide-to-nonprofit-success-columbus-5449
END:VEVENT

END:VCALENDAR
