BEGIN:VCALENDAR
VERSION:2.0
PRODID:-//ChamberMaster//Event Calendar 2.0//EN
METHOD:PUBLISH
X-PUBLISHED-TTL:P3D
REFRESH-INTERVAL:P3D
CALSCALE:GREGORIAN
BEGIN:VEVENT
DTSTART:20230922T220000Z
DTEND:20230922T233000Z
X-MICROSOFT-CDO-ALLDAYEVENT:FALSE
SUMMARY:4th Friday Portraits Apple Picking Set
DESCRIPTION:Coming to fourth Friday in uptown Westerville? Stop in and see us at Pearlescent portraits at 43 East College Avenue for a professional portrait on our Apple Picking set! This is an adorable set for kids and families alike! There's no cost\, no fee\, and no appointment needed. We will edit your best image with our Flawless Finish editing process and post on social media so you can download it for free! A special gift from Pearlescent Portraits because we believe #FamilyPortraitsAreFamilyMemories
X-ALT-DESC;FMTTYPE=text/html:Coming to fourth Friday in uptown Westerville? Stop in and see us at Pearlescent portraits at 43 East College Avenue for a professional portrait on our Apple Picking set! This is an adorable set for kids and families alike! There&#39\;s no cost\, no fee\, and no appointment needed. We will edit your best image with our Flawless Finish editing process and post on social media so you can download it for free! A special gift from Pearlescent Portraits because we believe #FamilyPortraitsAreFamilyMemories
LOCATION:Pearlescent Portraits 43 E College Ave\, Westerville
UID:e.1186.8756
SEQUENCE:3
DTSTAMP:20260424T223345Z
URL:https://business.westervillechamber.com/events/details/4th-friday-portraits-apple-picking-set-8756
END:VEVENT

END:VCALENDAR
