BEGIN:VCALENDAR
VERSION:2.0
PRODID:-//ChamberMaster//Event Calendar 2.0//EN
METHOD:PUBLISH
X-PUBLISHED-TTL:P3D
REFRESH-INTERVAL:P3D
CALSCALE:GREGORIAN
BEGIN:VEVENT
DTSTART:20260704T143000Z
DTEND:20260704T163000Z
X-MICROSOFT-CDO-ALLDAYEVENT:FALSE
SUMMARY:4th of July Parade
DESCRIPTION:The Rotary Club of Westerville Independence Day Parade will step off on State Street at 10:30 a.m.\, after 2022's highly successful move of the parade from the afternoon to the morning of the Fourth.\n\n\n\nThe parade route will remain as in recent years\, beginning at Old County Line Road and proceeding south to Electric Avenue.\n\n\n\nStaging will begin in the parking lot of St. Paul Catholic Church\, 313 N. State St.\, beginning at 9 a.m.\n\n\n\nLocal civic organizations\, sports and school groups\, and neighborhoods are encouraged to get their own entries together for the 2026 Parade.
X-ALT-DESC;FMTTYPE=text/html:The Rotary Club of Westerville Independence Day Parade will step off on State Street at 10:30 a.m.\, after 2022&rsquo\;s highly successful move of the parade from the afternoon to the morning of the Fourth.<br />\n<br />\nThe parade route will remain as in recent years\, beginning at Old County Line Road and proceeding south to Electric Avenue.<br />\n<br />\nStaging will begin in the parking lot of St. Paul Catholic Church\, 313 N. State St.\, beginning at 9 a.m.<br />\n<br />\nLocal civic organizations\, sports and school groups\, and neighborhoods are encouraged to get their own entries together for the 2026 Parade.
LOCATION:State Street
UID:e.1186.14696
SEQUENCE:3
DTSTAMP:20260421T145049Z
URL:https://business.westervillechamber.com/events/details/4th-of-july-parade-14696
END:VEVENT

END:VCALENDAR
