BEGIN:VCALENDAR
VERSION:2.0
PRODID:-//ChamberMaster//Event Calendar 2.0//EN
METHOD:PUBLISH
X-PUBLISHED-TTL:P3D
REFRESH-INTERVAL:P3D
CALSCALE:GREGORIAN
BEGIN:VEVENT
DTSTART:20250411T200000Z
DTEND:20250411T233000Z
X-MICROSOFT-CDO-ALLDAYEVENT:FALSE
SUMMARY:7th Annual AYCE Fish Fry
DESCRIPTION:Voted one of the best fish fries in Central Ohio\, we are back for our 7th annual All You Can Eat Fish Fry on Friday\, April 11\, 2025 at Blendon Masonic Temple. $14.00 per meal Kids eat free! Hand Breaded Alaskan Pollock\, Hand Cut French Fries\, Apple Sauce\, Mac and Cheese\, and Cole Slaw. Lemonade and water are available as well. Carryout orders are available! ALL proceeds from this event go to Westerville Special Olympics.
X-ALT-DESC;FMTTYPE=text/html:Voted one of the best fish fries in Central Ohio\, we are back for our 7th annual All You Can Eat Fish Fry on Friday\, April 11\, 2025 at Blendon Masonic Temple. $14.00 per meal Kids eat free! Hand Breaded Alaskan Pollock\, Hand Cut French Fries\, Apple Sauce\, Mac and Cheese\, and Cole Slaw. Lemonade and water are available as well. Carryout orders are available! ALL proceeds from this event go to Westerville Special Olympics.
LOCATION:Blendon Lodge #339 130 South State Street\, Westerville\, Ohio\, 43081
UID:e.1186.13632
SEQUENCE:3
DTSTAMP:20260419T182259Z
URL:https://business.westervillechamber.com/events/details/7th-annual-ayce-fish-fry-13632
END:VEVENT

END:VCALENDAR
