BEGIN:VCALENDAR
VERSION:2.0
PRODID:-//ChamberMaster//Event Calendar 2.0//EN
METHOD:PUBLISH
X-PUBLISHED-TTL:P3D
REFRESH-INTERVAL:P3D
CALSCALE:GREGORIAN
BEGIN:VEVENT
DTSTART:20251108T140000Z
DTEND:20251108T190000Z
X-MICROSOFT-CDO-ALLDAYEVENT:FALSE
SUMMARY:9th Annual Holiday Craft Bazaar
DESCRIPTION:Leap of Faith Dance Company annual fundraising event with local craft vendors.
X-ALT-DESC;FMTTYPE=text/html:Leap of Faith Dance Company annual fundraising event with local craft vendors.
LOCATION:Leap of Faith Dance Company 355 Cherrington Road Westerville\, Ohio 43081
UID:e.1186.14005
SEQUENCE:3
DTSTAMP:20260422T232025Z
URL:https://business.westervillechamber.com/events/details/9th-annual-holiday-craft-bazaar-14005
END:VEVENT

END:VCALENDAR
