BEGIN:VCALENDAR
VERSION:2.0
PRODID:-//ChamberMaster//Event Calendar 2.0//EN
METHOD:PUBLISH
X-PUBLISHED-TTL:P3D
REFRESH-INTERVAL:P3D
CALSCALE:GREGORIAN
BEGIN:VEVENT
DTSTART:20250311T140000Z
DTEND:20250311T190000Z
X-MICROSOFT-CDO-ALLDAYEVENT:FALSE
SUMMARY:American Red Cross Blood Drive
DESCRIPTION:Please call 1-800-RED CROSS (1-800-733-2767) or visit RedCrossBlood.org and enter: RenPolaris to schedule an appointment. \n\n\n\nStreamline your donation experience and save up to 15 minutes by visiting RedCrossBlood.org/RapidPass to complete your pre-donation reading and health history questions on the day of your appointment.
X-ALT-DESC;FMTTYPE=text/html:<div style="text-align:center">Please call 1-800-RED CROSS (1-800-733-2767) or visit <strong>RedCrossBlood.org </strong>and enter: <strong>RenPolaris</strong> to schedule an appointment.&nbsp\;<br />\n<br />\nStreamline your donation experience and save up to 15 minutes by visiting <strong>RedCrossBlood.org/RapidPass</strong> to complete your pre-donation reading and health history questions on the day of your appointment.</div>\n
LOCATION:Banquet Room 409 Altair Parkway Westerville\, OH 43082
UID:e.1186.13574
SEQUENCE:3
DTSTAMP:20260420T142643Z
URL:https://business.westervillechamber.com/events/details/american-red-cross-blood-drive-13574
END:VEVENT

END:VCALENDAR
