BEGIN:VCALENDAR
VERSION:2.0
PRODID:-//ChamberMaster//Event Calendar 2.0//EN
METHOD:PUBLISH
X-PUBLISHED-TTL:P3D
REFRESH-INTERVAL:P3D
CALSCALE:GREGORIAN
BEGIN:VEVENT
DTSTART:20260502T140000Z
DTEND:20260502T153000Z
X-MICROSOFT-CDO-ALLDAYEVENT:FALSE
SUMMARY:Annual Mother's Day Tea
DESCRIPTION:Please join us for tea\, a light brunch\, and fellowship as we honor mothers who have lost a child at any age. As we walk this journey together\, we invite women who have experienced this unique loss to gather in community and connect with shared messages of hope amidst the pain of grief.\n\n\n\nThis year's event will also feature a special stained glass memorial activity\, offering mothers the opportunity to create a meaningful keepsake in memory of their child to take home.
X-ALT-DESC;FMTTYPE=text/html:Please join us for tea\, a light brunch\, and fellowship as we honor mothers who have lost a child at any age. As we walk this journey together\, we invite women who have experienced this unique loss to gather in community and connect with shared messages of hope amidst the pain of grief.<br />\n<br />\nThis year&rsquo\;s event will also feature a special stained glass memorial activity\, offering mothers the opportunity to create a meaningful keepsake in memory of their child to take home.
LOCATION:Cornerstone of Hope 253 N. State Street Suite 200 Westerville\, OH 43081 Free parking surrounding the building. Stair and elevator access to memorial event.
UID:e.1186.14597
SEQUENCE:3
DTSTAMP:20260419T182819Z
URL:https://business.westervillechamber.com/events/details/annual-mother-s-day-tea-05-02-2026-14597
END:VEVENT

END:VCALENDAR
