BEGIN:VCALENDAR
VERSION:2.0
PRODID:-//ChamberMaster//Event Calendar 2.0//EN
METHOD:PUBLISH
X-PUBLISHED-TTL:P3D
REFRESH-INTERVAL:P3D
CALSCALE:GREGORIAN
BEGIN:VEVENT
DTSTART:20251211T170000Z
DTEND:20251211T180000Z
X-MICROSOFT-CDO-ALLDAYEVENT:FALSE
SUMMARY:Avoiding Scams
DESCRIPTION:Learn to identify the most common scams and how to protect yourself and loved ones.
X-ALT-DESC;FMTTYPE=text/html:Learn to identify the most common scams and how to protect yourself and loved ones.
LOCATION:Webinar
UID:e.1186.13776
SEQUENCE:3
DTSTAMP:20260421T035211Z
URL:https://business.westervillechamber.com/events/details/avoiding-scams-13776
END:VEVENT

END:VCALENDAR
