BEGIN:VCALENDAR
VERSION:2.0
PRODID:-//ChamberMaster//Event Calendar 2.0//EN
METHOD:PUBLISH
X-PUBLISHED-TTL:P3D
REFRESH-INTERVAL:P3D
CALSCALE:GREGORIAN
BEGIN:VEVENT
DTSTART:20220214T230000Z
DTEND:20220215T000000Z
X-MICROSOFT-CDO-ALLDAYEVENT:FALSE
SUMMARY:Back Handspring Class
DESCRIPTION:Americheer offers Back Handspring Classes throughout the week during their Winter Gym Schedule! Join them Mondays from 6p-7p through Feb 21st. Advanced Tumble/Tucks class offered immediately after\, from 7p-8p. \n\n\n\nCall 614-898-1000 for more info! Never been to Americheer before? First class always free!
X-ALT-DESC;FMTTYPE=text/html:Americheer offers <strong>Back Handspring Classes</strong> throughout the week during their Winter Gym Schedule! Join them Mondays from 6p-7p through Feb 21st.&nbsp\;<strong>Advanced Tumble/Tucks</strong> class offered immediately after\, from 7p-8p.&nbsp\;<br />\n<br />\nCall 614-898-1000 for more info! Never been to Americheer before?&nbsp\;First class always free!
LOCATION:Americheer 20 Collegeview Rd\, Westerville\, OH 43081
UID:e.1186.5648
SEQUENCE:3
DTSTAMP:20260422T032213Z
URL:https://business.westervillechamber.com/events/details/back-handspring-class-02-14-2022-5648
END:VEVENT

END:VCALENDAR
