BEGIN:VCALENDAR
VERSION:2.0
PRODID:-//ChamberMaster//Event Calendar 2.0//EN
METHOD:PUBLISH
X-PUBLISHED-TTL:P3D
REFRESH-INTERVAL:P3D
CALSCALE:GREGORIAN
BEGIN:VEVENT
DTSTART:20220222T230000Z
DTEND:20220223T000000Z
X-MICROSOFT-CDO-ALLDAYEVENT:FALSE
SUMMARY:Beginner Back Handspring Class
DESCRIPTION:Americheer offers Beginner Back Handspring Classes on Tuesdays during their Winter Gym Schedule! Join them from 6p-7p on Tuesdays through Feb 22nd. OPEN GYM offered immediately after\, from 7p-8:30p. \n\n\n\nCall 614-898-1000 for more info! Never been to Americheer before? First class always free!
X-ALT-DESC;FMTTYPE=text/html:Americheer offers <strong>Beginner Back Handspring Classes</strong>&nbsp\;on Tuesdays during their Winter Gym Schedule! Join them from 6p-7p on Tuesdays through Feb 22nd. <b>OPEN GYM</b>&nbsp\;offered immediately after\, from 7p-8:30p.&nbsp\;<br />\n<br />\nCall 614-898-1000 for more info! Never been to Americheer before?&nbsp\;First class always free!
LOCATION:Americheer 20 Collegeview Rd\, Westerville\, OH 43081
UID:e.1186.5652
SEQUENCE:3
DTSTAMP:20260422T032019Z
URL:https://business.westervillechamber.com/events/details/beginner-back-handspring-class-02-22-2022-5652
END:VEVENT

END:VCALENDAR
