BEGIN:VCALENDAR
VERSION:2.0
PRODID:-//ChamberMaster//Event Calendar 2.0//EN
METHOD:PUBLISH
X-PUBLISHED-TTL:P3D
REFRESH-INTERVAL:P3D
CALSCALE:GREGORIAN
BEGIN:VEVENT
DTSTART:20260204T170000Z
DTEND:20260204T180000Z
X-MICROSOFT-CDO-ALLDAYEVENT:FALSE
SUMMARY:Better Budget Building
DESCRIPTION:Explore what should be included in your budget as well as strategies to make it work for you. Discover various tools that can help you create an effective plan for your money and learn tips to stay on course toward your goals.
X-ALT-DESC;FMTTYPE=text/html:Explore what should be included in your budget as well as strategies to make it work for you. Discover various tools that can help you create an effective plan for your money and learn tips to stay on course toward your goals.
LOCATION:Zoom
UID:e.1186.14092
SEQUENCE:3
DTSTAMP:20260423T032605Z
URL:https://business.westervillechamber.com/events/details/better-budget-building-14092
END:VEVENT

END:VCALENDAR
