BEGIN:VCALENDAR
VERSION:2.0
PRODID:-//ChamberMaster//Event Calendar 2.0//EN
METHOD:PUBLISH
X-PUBLISHED-TTL:P3D
REFRESH-INTERVAL:P3D
CALSCALE:GREGORIAN
BEGIN:VEVENT
DTSTART:20250819T200000Z
DTEND:20250819T223000Z
X-MICROSOFT-CDO-ALLDAYEVENT:FALSE
SUMMARY:Beyond the Bill: OBBBA Planning Opportunities (Columbus)
DESCRIPTION:There's no shortage of webinars breaking down the One\, Big\, Beautiful Bill Act (OBBBA). But now it's time for the next step real talk about what's not in the bill\, and what that means for your business.\n\n\n\nJoin CSH and other forward-looking business leaders for an in-person gathering where we'll trade the usual presentation format for a relaxed\, off-the-record-style conversation. Our tax experts will outline key planning opportunities\, offer perspective on the gaps and gray areas of OBBBA\, and answer your questions in an open\, approachable format.\n\n\n\nStick around after the conversation and enjoy a casual happy hour with light bites and a chance to connect with peers.
X-ALT-DESC;FMTTYPE=text/html:<section style="box-sizing: border-box\; color: rgb(89\, 89\, 89)\; font-family: Roboto\; font-size: 24px\;">\n<p style="box-sizing: border-box\; font-size: 20px\; line-height: 26px\; margin: 0px 0px 20px\; padding-top: 0px\;">There&rsquo\;s no shortage of webinars breaking down the One\, Big\, Beautiful Bill Act (OBBBA). But now it&rsquo\;s time for the next step&mdash\;real talk about what&rsquo\;s not in the bill\, and what that means for your business.<br />\n<br />\nJoin CSH and other forward-looking business leaders for an in-person gathering where we&rsquo\;ll trade the usual presentation format for a relaxed\, off-the-record-style conversation. Our tax experts will outline key planning opportunities\, offer perspective on the gaps and gray areas of OBBBA\, and answer your questions in an open\, approachable format.<br />\n<br />\nStick around after the conversation and enjoy a casual happy hour with light bites and a chance to connect with peers.</p>\n</section>\n
LOCATION:Base One - 6671 Village Pkwy\, Dublin\, OH 43017
UID:e.1186.13787
SEQUENCE:3
DTSTAMP:20260419T131859Z
URL:https://business.westervillechamber.com/events/details/beyond-the-bill-obbba-planning-opportunities-columbus-13787
END:VEVENT

END:VCALENDAR
