BEGIN:VCALENDAR
VERSION:2.0
PRODID:-//ChamberMaster//Event Calendar 2.0//EN
METHOD:PUBLISH
X-PUBLISHED-TTL:P3D
REFRESH-INTERVAL:P3D
CALSCALE:GREGORIAN
BEGIN:VEVENT
DTSTART:20251005T160000Z
DTEND:20251005T160000Z
X-MICROSOFT-CDO-ALLDAYEVENT:FALSE
SUMMARY:!Blueberry Smash!
DESCRIPTION:The Bella is no longer solo on stage with the Blueberries. Our blueberry smash has arrived hot and ready to go. Warmed up with a crumble crest\, served with Ice Cream. Hurry before the Pumpkin takes its spot! As always\, reservations recommended.
X-ALT-DESC;FMTTYPE=text/html:The Bella is no longer solo on stage with the Blueberries. Our blueberry smash has arrived hot and ready to go. Warmed up with a crumble crest\, served with Ice Cream. Hurry before the Pumpkin takes its spot! As always\, reservations recommended.
LOCATION:Westerville Rusty Bucket
UID:e.1186.13993
SEQUENCE:3
DTSTAMP:20260419T121259Z
URL:https://business.westervillechamber.com/events/details/blueberry-smash-10-05-2025-13993
END:VEVENT

END:VCALENDAR
