BEGIN:VCALENDAR
VERSION:2.0
PRODID:-//ChamberMaster//Event Calendar 2.0//EN
METHOD:PUBLISH
X-PUBLISHED-TTL:P3D
REFRESH-INTERVAL:P3D
CALSCALE:GREGORIAN
BEGIN:VEVENT
DTSTART;VALUE=DATE:20240708
DTEND;VALUE=DATE:20240709
TRANSP:TRANSPARENT
X-MICROSOFT-CDO-ALLDAYEVENT:TRUE
SUMMARY:Book Your Event at the Renaissance and Save!
DESCRIPTION:RESERVE A CATERING FUNCTION WITH A MINIMUM OF $2\,500 IN FOOD AND BEVERAGE IN JUNE\, JULY OR AUGUST AND CHOOSE THE ELIGIBLE ITEMS FOR EACH MONTH\n\n\n\nEvent must be held by June 30\, 2024:\n\n2% Rebate\n\n10% off Banquet Menu\n\n10% off AV\n\nDouble Meeting Planner Points\n\n\n\nEvent must be held between July 1\, 2024 - July 31\, 2024:\n\n2% Rebate\n\n10% off Banquet Menu\n\n10% off AV\n\nDouble Meeting Planner Points\n\n\n\nEvent must be held between August 1\, 2024 - August 31\, 2024:\n\n2% Rebate\n\n10% off Banquet Menu\n\n15% off AV\n\nDouble Meeting Planner Points
X-ALT-DESC;FMTTYPE=text/html:RESERVE A CATERING FUNCTION WITH A MINIMUM OF $2\,500 IN FOOD AND BEVERAGE IN JUNE\, JULY OR AUGUST AND CHOOSE THE ELIGIBLE ITEMS FOR EACH MONTH<br />\n<br />\nEvent must be held by June 30\, 2024:<br />\n2% Rebate<br />\n10% off Banquet Menu<br />\n10% off AV<br />\nDouble Meeting Planner Points<br />\n<br />\nEvent must be held between July 1\, 2024 - July 31\, 2024:<br />\n2% Rebate<br />\n10% off Banquet Menu<br />\n10% off AV<br />\nDouble Meeting Planner Points<br />\n<br />\nEvent must be held between August 1\, 2024 - August 31\, 2024:<br />\n2% Rebate<br />\n10% off Banquet Menu<br />\n15% off AV<br />\nDouble Meeting Planner Points
LOCATION:Renaissance Columbus Westerville Hotel 409 Altair Parkway\, Westerville\, OH 430382
UID:e.1186.12201
SEQUENCE:3
DTSTAMP:20260422T140533Z
URL:https://business.westervillechamber.com/events/details/book-your-event-at-the-renaissance-and-save-07-08-2024-12201
END:VEVENT

END:VCALENDAR
