BEGIN:VCALENDAR
VERSION:2.0
PRODID:-//ChamberMaster//Event Calendar 2.0//EN
METHOD:PUBLISH
X-PUBLISHED-TTL:P3D
REFRESH-INTERVAL:P3D
CALSCALE:GREGORIAN
BEGIN:VEVENT
DTSTART:20211016T160000Z
DTEND:20211016T230000Z
X-MICROSOFT-CDO-ALLDAYEVENT:FALSE
SUMMARY:Boost Mobile and Squash the Beef
DESCRIPTION:October 16th from 12pm-7pm come out and get some Boost Swag! We will also be having Squash The Beef Food Buggy from 12pm-4pm\, and Boost Mobile customers get 10% off! Sign up for our FREE INTERNET to enter into our raffle for a chance to win a $15 gift card to Cold Stone. As always Boost Mobile promotions for new and current customers. Click on the link below to enter another raffle of winning a Cold Stone gift card! https://www.boostmobilesweeps.com/#20210918142704135
X-ALT-DESC;FMTTYPE=text/html:October 16th from 12pm-7pm come out and get some Boost Swag! We will also be having Squash The Beef Food Buggy from 12pm-4pm\, and Boost Mobile customers get 10% off! Sign up for our FREE INTERNET to enter into our raffle for a chance to win a $15 gift card to Cold Stone. As always Boost Mobile promotions for new and current customers. Click on the link below to enter another raffle of winning a Cold Stone gift card! https://www.boostmobilesweeps.com/#20210918142704135
LOCATION:Boost Mobile parking lot 5992 Westerville Rd Suite F\, Westerville Ohio 43081
UID:e.1186.5459
SEQUENCE:3
DTSTAMP:20260422T041012Z
URL:https://business.westervillechamber.com/events/details/boost-mobile-and-squash-the-beef-5459
END:VEVENT

END:VCALENDAR
