BEGIN:VCALENDAR
VERSION:2.0
PRODID:-//ChamberMaster//Event Calendar 2.0//EN
METHOD:PUBLISH
X-PUBLISHED-TTL:P3D
REFRESH-INTERVAL:P3D
CALSCALE:GREGORIAN
BEGIN:VEVENT
DTSTART:20260209T190000Z
DTEND:20260209T210000Z
X-MICROSOFT-CDO-ALLDAYEVENT:FALSE
SUMMARY:Boost Your Career with LinkedIn
DESCRIPTION:Get the tools you need to take your LinkedIn profile to the next level and discover effective ways to network with Sharon Hamersley the Resume Coach.\n\n\n\nTo get the most out of this workshop\, create a basic LinkedIn account before attending.
X-ALT-DESC;FMTTYPE=text/html:Get the tools you need to take your LinkedIn profile to the next level and discover effective ways to network with <a href="http://the-resume-coach.com/">Sharon Hamersley the Resume Coach</a>.<br />\n<br />\n<em>To get the most out of this workshop\, create a basic <a href="https://www.linkedin.com/">LinkedIn account</a> before attending. </em>
LOCATION:Westerville Public Library
UID:e.1186.14062
SEQUENCE:3
DTSTAMP:20260423T032635Z
URL:https://business.westervillechamber.com/events/details/boost-your-career-with-linkedin-14062
END:VEVENT

END:VCALENDAR
