BEGIN:VCALENDAR
VERSION:2.0
PRODID:-//ChamberMaster//Event Calendar 2.0//EN
METHOD:PUBLISH
X-PUBLISHED-TTL:P3D
REFRESH-INTERVAL:P3D
CALSCALE:GREGORIAN
BEGIN:VEVENT
DTSTART:20250308T233000Z
DTEND:20250309T013000Z
X-MICROSOFT-CDO-ALLDAYEVENT:FALSE
SUMMARY:Boots & Beauties Father Daughter Dance
DESCRIPTION:Join us for our annual LOFDC Father-Daughter Dance This year's theme is Boots & Beauties Ticket price includes dancing\, a souvenir photo\, activities\, and refreshments. No refunds available
X-ALT-DESC;FMTTYPE=text/html:Join us for our annual LOFDC Father-Daughter Dance This year&#39\;s theme is Boots &amp\; Beauties Ticket price includes dancing\, a souvenir photo\, activities\, and refreshments. No refunds available
LOCATION:Leap of Faith Dance Company 355 Cherrington Road Westerville\, Ohio 43081
UID:e.1186.13487
SEQUENCE:3
DTSTAMP:20260419T201002Z
URL:https://business.westervillechamber.com/events/details/boots-beauties-father-daughter-dance-13487
END:VEVENT

END:VCALENDAR
