BEGIN:VCALENDAR
VERSION:2.0
PRODID:-//ChamberMaster//Event Calendar 2.0//EN
METHOD:PUBLISH
X-PUBLISHED-TTL:P3D
REFRESH-INTERVAL:P3D
CALSCALE:GREGORIAN
BEGIN:VEVENT
DTSTART:20250905T130000Z
DTEND:20250905T150000Z
X-MICROSOFT-CDO-ALLDAYEVENT:FALSE
SUMMARY:Burnout to Brilliance\, Mastering the 8 Pillars of Wellness
DESCRIPTION:Burnout to Brilliance\, Mastering the 8 Pillars of Wellness\n\nJoin us for an incredible in-person event focused on transforming your life from burnout to brilliance! Discover how to regain control of the 8 Pillars of Wellness at COhatch Polaris. This event will empower you to take control of the different areas of your life and well-being. Don't miss this opportunity to ignite your inner brilliance and live your best life!\n\nThe workshop is being led by Faith Rivera of Alo Civitas Consulting LLC and Chelsea Elliott of Somocom Lab. The workshop is sponsored by Key4Women.\n\nThis workshop will be engaging and give you tangible takeaways. Light refreshments will be provided for attendees.
X-ALT-DESC;FMTTYPE=text/html:<p><strong>Burnout to Brilliance\, Mastering the 8 Pillars of Wellness</strong></p>\n\n<p>Join us for an incredible in-person event focused on transforming your life from burnout to brilliance! Discover how to regain control of the&nbsp\;<strong>8 Pillars of Wellness</strong>&nbsp\;at COhatch Polaris. This event will empower you to take control of the different areas of your life and well-being. Don&#39\;t miss this opportunity to ignite your inner brilliance and live your best life!</p>\n\n<p>The workshop is being led by Faith Rivera of Alo Civitas Consulting LLC and Chelsea Elliott of Somocom Lab. The workshop is sponsored by Key4Women.</p>\n\n<p>This workshop will be engaging and give you tangible takeaways. Light refreshments will be provided for attendees.</p>\n
LOCATION:COhatch Polaris 1554 Polaris Parkway #325 Columbus\, OH 43240
UID:e.1186.13798
SEQUENCE:3
DTSTAMP:20260419T133854Z
URL:https://business.westervillechamber.com/events/details/burnout-to-brilliance-mastering-the-8-pillars-of-wellness-13798
END:VEVENT

END:VCALENDAR
