BEGIN:VCALENDAR
VERSION:2.0
PRODID:-//ChamberMaster//Event Calendar 2.0//EN
METHOD:PUBLISH
X-PUBLISHED-TTL:P3D
REFRESH-INTERVAL:P3D
CALSCALE:GREGORIAN
BEGIN:VEVENT
DTSTART:20240725T200000Z
DTEND:20240725T220000Z
X-MICROSOFT-CDO-ALLDAYEVENT:FALSE
SUMMARY:Business Afterhours Event with KeyBank and Comfort Keepers!
DESCRIPTION:Join Comfort Keepers and KeyBank-Key4Women for a summer afterhours event!\n\nDate: Thursday\, July 25th\n\nTime: 4 pm to 6 pm\n\nLocation: 5761 Chandler Court Westerville\, OH  43082\n\nRSVP to: terriking@comfortkeepers.com or Erin_Ressa@keybank.com\n\n\n\nWe will collect donations for Femergy\, a nonprofit organization supporting youth and young women in the community. Back to School items needed: Deodorant\, Hair Supplies Brush Comb Shampoo Conditioner\, Lotion\, Toothbrush\, Toothpaste\, Floss\, Mouthwash\, Menstrual Products\, Hand Sanitizer\, Lip Balm\, Spray Sports Bras\, Standard Bras\, Socks\, and  New/gently used clothing items.  \n\n\n\nWe are looking forward to connecting with and giving back!
X-ALT-DESC;FMTTYPE=text/html:<p><span style="font-family:arial\,helvetica\,sans-serif"><span style="font-size:14px">Join Comfort Keepers and KeyBank-Key4Women for a summer afterhours event!</span></span></p>\n\n<p><span style="font-family:arial\,helvetica\,sans-serif"><span style="font-size:14px">Date: Thursday\, July 25th</span></span><br />\n<span style="font-family:arial\,helvetica\,sans-serif\; font-size:14px">Time: 4 pm to 6 pm</span><br />\n<span style="font-family:arial\,helvetica\,sans-serif\; font-size:14px">Location: 5761 Chandler Court Westerville\, OH&nbsp\; 43082</span><br />\n<span style="font-family:arial\,helvetica\,sans-serif\; font-size:14px">RSVP to:&nbsp\;</span><span style="color:rgb(0\, 0\, 0)\; font-family:arial\,helvetica\,sans-serif\; font-size:14px">terriking@comfortkeepers.com or Erin_Ressa@keybank.com</span></p>\n\n<p><br />\n<span style="font-family:arial\,helvetica\,sans-serif"><span style="font-size:14px"><span style="color:rgb(0\, 0\, 0)">We will collect donations for Femergy\, a nonprofit organization supporting youth and young women in the community. Back to School items needed: D</span>eodorant\, Hair Supplies Brush Comb Shampoo Conditioner\, Lotion\, Toothbrush\, Toothpaste\, Floss\, Mouthwash\, Menstrual Products\, Hand Sanitizer\, Lip Balm\, Spray Sports Bras\, Standard Bras\, Socks\, and&nbsp\; New/gently used clothing items.&nbsp\;&nbsp\;<br />\n<br />\nWe are looking forward to connecting with and giving back!</span></span><br />\n&nbsp\;</p>\n
LOCATION:Comfort Keepers 5761 Chandler Court Westerville\, OH 43082.
UID:e.1186.12223
SEQUENCE:3
DTSTAMP:20260422T141225Z
URL:https://business.westervillechamber.com/events/details/business-afterhours-event-with-keybank-and-comfort-keepers-12223
END:VEVENT

END:VCALENDAR
