BEGIN:VCALENDAR
VERSION:2.0
PRODID:-//ChamberMaster//Event Calendar 2.0//EN
METHOD:PUBLISH
X-PUBLISHED-TTL:P3D
REFRESH-INTERVAL:P3D
CALSCALE:GREGORIAN
BEGIN:VEVENT
DTSTART:20251031T123000Z
DTEND:20251031T133000Z
X-MICROSOFT-CDO-ALLDAYEVENT:FALSE
SUMMARY:Business Babes & Bagels (Presented by Stark Financial Group)
DESCRIPTION:WOMEN- Business Babes & Bagels Monthly event.- Join your fellow boss-babe women for informal networking & fellowship... and yes you can come in your jeans- it's Friday!!!
X-ALT-DESC;FMTTYPE=text/html:<p>WOMEN- Business Babes &amp\; Bagels Monthly event.-&nbsp\;Join your fellow boss-babe women for informal networking &amp\; fellowship... and yes you can come in your jeans- it&#39\;s Friday!!!</p>\n
LOCATION:(Stark Financial Group Office) 5839 Chandler Ct. Westerville\, Ohio 43082
UID:e.1186.13822
SEQUENCE:3
DTSTAMP:20260422T221225Z
URL:https://business.westervillechamber.com/events/details/business-babes-bagels-presented-by-stark-financial-group-10-31-2025-13822
END:VEVENT

END:VCALENDAR
