BEGIN:VCALENDAR
VERSION:2.0
PRODID:-//ChamberMaster//Event Calendar 2.0//EN
METHOD:PUBLISH
X-PUBLISHED-TTL:P3D
REFRESH-INTERVAL:P3D
CALSCALE:GREGORIAN
BEGIN:VEVENT
DTSTART;VALUE=DATE:20260622
DTEND;VALUE=DATE:20260627
TRANSP:TRANSPARENT
X-MICROSOFT-CDO-ALLDAYEVENT:TRUE
SUMMARY:Camp Memory: A Day Camp for Ages 6-12
DESCRIPTION:Camp Memory is a day camp designed to give children the opportunity to share their grief experiences in fun and creative ways. Campers will participate in age-appropriate grief activities led by professionals\, go on field trips\, and play games. This camp provides a safe environment for children and teens to process their grief and find comfort in the company of peers who have experienced similar losses. Breakfast\, lunch\, and snacks provided.\n\n\n\n Campers will be required to attend an in-person pre-camp assessment with a parent or guardian.
X-ALT-DESC;FMTTYPE=text/html:Camp Memory is a day camp designed to give children the opportunity to share their grief experiences in fun and creative ways. Campers will participate in age-appropriate grief activities led by professionals\, go on field trips\, and play games. This camp provides a safe environment for children and teens to process their grief and find comfort in the company of peers who have experienced similar losses. Breakfast\, lunch\, and snacks provided.<br />\n<br />\n&nbsp\;Campers will be required to attend an in-person pre-camp assessment with a parent or guardian.<br />\n&nbsp\;
LOCATION:313 N. State Street Westerville\, Ohio 43082
UID:e.1186.14601
SEQUENCE:3
DTSTAMP:20260421T132503Z
URL:https://business.westervillechamber.com/events/details/camp-memory-a-day-camp-for-ages-6-12-14601
END:VEVENT

END:VCALENDAR
