BEGIN:VCALENDAR
VERSION:2.0
PRODID:-//ChamberMaster//Event Calendar 2.0//EN
METHOD:PUBLISH
X-PUBLISHED-TTL:P3D
REFRESH-INTERVAL:P3D
CALSCALE:GREGORIAN
BEGIN:VEVENT
DTSTART;VALUE=DATE:20251210
DTEND;VALUE=DATE:20251211
TRANSP:TRANSPARENT
X-MICROSOFT-CDO-ALLDAYEVENT:TRUE
SUMMARY:Carrabba's Caymus Wine Dinner
DESCRIPTION:Step into a refined culinary experience celebrating the bold character of Caymus Vineyards and the timeless allure of Italian cuisine. \n\nJoin us for an elevated Five-course dinner\, thoughtfully paired with wines from the Wagner family's iconic portfolio including the legendary Caymus Cabernet Sauvignon.\n\n\n\nJust visit our website or call our store to sign up!!! (614) 880-2426
X-ALT-DESC;FMTTYPE=text/html:<span style="background-color:rgb(255\, 255\, 255)\; color:rgb(64\, 64\, 65)\; font-family:gibson-regular\; font-size:16px">Step into a refined culinary experience celebrating the bold character of Caymus Vineyards and the timeless allure of Italian cuisine.&nbsp\;<br />\nJoin us for an elevated Five-course dinner\, thoughtfully paired with wines from the Wagner family&rsquo\;s iconic portfolio&mdash\;including the legendary Caymus Cabernet Sauvignon.<br />\n<br />\nJust visit our website or call our store to sign up!!! (614) 880-2426</span>
LOCATION:8460 Lyra Dr\, Columbus OH\, 43240
UID:e.1186.14085
SEQUENCE:3
DTSTAMP:20260423T003916Z
URL:https://business.westervillechamber.com/events/details/carrabba-s-caymus-wine-dinner-14085
END:VEVENT

END:VCALENDAR
