BEGIN:VCALENDAR
VERSION:2.0
PRODID:-//ChamberMaster//Event Calendar 2.0//EN
METHOD:PUBLISH
X-PUBLISHED-TTL:P3D
REFRESH-INTERVAL:P3D
CALSCALE:GREGORIAN
BEGIN:VEVENT
DTSTART:20190409T223000Z
DTEND:20190410T000000Z
X-MICROSOFT-CDO-ALLDAYEVENT:FALSE
SUMMARY:Celebrity Dancing with the Stars
DESCRIPTION:The gorgeous and talented 'Dancing with the Stars' professional\, Anna Trebunskaya\, will be at the Westerville Fred Astaire Dance studio teaching her favorite #DWTS choreographed routines. Join us as she highlights some of her favorite routines danced with celebrities such as: NFL player Jerry Rice (Season 2)\; Olympian figure skater Evan Lysacek (Season 10)\; and Boxing legend Sugar Ray Leonard (Season 12). Limited tickets available. Click HERE to reserve your spot today!
X-ALT-DESC;FMTTYPE=text/html:<span style="background-color: rgb(255\, 255\, 255)\; color: rgb(111\, 114\, 135)\; font-family: &quot\;Neue Plak&quot\;\, -apple-system\, BlinkMacSystemFont\, Roboto\, &quot\;Helvetica Neue&quot\;\, Helvetica\, Tahoma\, Arial\, sans-serif\; font-size: 16px\; font-variant-numeric: normal\; font-variant-east-asian: normal\; letter-spacing: 0.5px\;">The gorgeous and talented &#39\;</span><em style="color: rgb(111\, 114\, 135)\; font-family: &quot\;Neue Plak&quot\;\, -apple-system\, BlinkMacSystemFont\, Roboto\, &quot\;Helvetica Neue&quot\;\, Helvetica\, Tahoma\, Arial\, sans-serif\; font-size: 16px\; font-variant-numeric: normal\; font-variant-east-asian: normal\; letter-spacing: 0.5px\; padding-top: 0px\;">Dancing with the Stars</em><span style="background-color: rgb(255\, 255\, 255)\; color: rgb(111\, 114\, 135)\; font-family: &quot\;Neue Plak&quot\;\, -apple-system\, BlinkMacSystemFont\, Roboto\, &quot\;Helvetica Neue&quot\;\, Helvetica\, Tahoma\, Arial\, sans-serif\; font-size: 16px\; font-variant-numeric: normal\; font-variant-east-asian: normal\; letter-spacing: 0.5px\;">&#39\; professional\, </span><span style="color: rgb(111\, 114\, 135)\; font-family: &quot\;Neue Plak&quot\;\, -apple-system\, BlinkMacSystemFont\, Roboto\, &quot\;Helvetica Neue&quot\;\, Helvetica\, Tahoma\, Arial\, sans-serif\; font-size: 16px\; font-variant-numeric: normal\; font-variant-east-asian: normal\; font-weight: 700\; letter-spacing: 0.5px\;">Anna Trebunskaya</span><span style="background-color: rgb(255\, 255\, 255)\; color: rgb(111\, 114\, 135)\; font-family: &quot\;Neue Plak&quot\;\, -apple-system\, BlinkMacSystemFont\, Roboto\, &quot\;Helvetica Neue&quot\;\, Helvetica\, Tahoma\, Arial\, sans-serif\; font-size: 16px\; font-variant-numeric: normal\; font-variant-east-asian: normal\; letter-spacing: 0.5px\;">\, will be at the Westerville Fred Astaire Dance studio teaching her favorite #DWTS choreographed routines. Join us as she highlights some of her favorite routines danced with celebrities such as: NFL player Jerry Rice (Season 2)\; Olympian figure skater Evan Lysacek (Season 10)\; and Boxing legend Sugar Ray Leonard (Season 12). Limited tickets available. Click <a href="https://www.eventbrite.com/e/celebrity-dancing-with-the-stars-anna-trebunskaya-coaching-ballroom-dance-tickets-59471045498?aff=utm_source%3Deb_email%26utm_medium%3Demail%26utm_campaign%3Dnew_event_email&amp\;utm_term=eventurl_text">HERE </a>to reserve your spot today!</span>
LOCATION:Fred Astaire Dance Studios 1091 Eastwind Drive Westerville\, OH 43081
UID:e.1186.3189
SEQUENCE:3
DTSTAMP:20260421T014245Z
URL:https://business.westervillechamber.com/events/details/celebrity-dancing-with-the-stars-3189
END:VEVENT

END:VCALENDAR
