BEGIN:VCALENDAR
VERSION:2.0
PRODID:-//ChamberMaster//Event Calendar 2.0//EN
METHOD:PUBLISH
X-PUBLISHED-TTL:P3D
REFRESH-INTERVAL:P3D
CALSCALE:GREGORIAN
BEGIN:VEVENT
DTSTART:20251211T000000Z
DTEND:20251211T013000Z
X-MICROSOFT-CDO-ALLDAYEVENT:FALSE
SUMMARY:Christmas Candle Lighting and Remembrance Ceremony
DESCRIPTION:All are welcome and invited to this very special candle lighting and remembrance service. Whether your loss has been recent or years ago\, you may light a personalized keepsake candle in memory of your loved one. \n\n\n\nEach memorial candle will include a photo of your loved one\, and a short story or words of remembrance will be shared during the ceremony   creating a meaningful tribute to those you hold in your heart.\n\n\n\nMemorial candles are $20 each. Register by Monday\, December 1\, 2025.
X-ALT-DESC;FMTTYPE=text/html:All are welcome and invited to this very special candle lighting and remembrance service. Whether your loss has been recent or years ago\, you may light a personalized keepsake candle in memory of your loved one.&nbsp\;<br />\n<br />\nEach memorial candle will include a photo of your loved one\, and a short story or words of remembrance will be shared during the ceremony &mdash\; creating a meaningful tribute to those you hold in your heart.<br />\n<br />\nMemorial candles are $20 each. Register by Monday\, December 1\, 2025.
LOCATION:7 W. Henderson Road Columbus\, Ohio 43214 Free parking surrounding building.
UID:e.1186.14000
SEQUENCE:3
DTSTAMP:20260423T004022Z
URL:https://business.westervillechamber.com/events/details/christmas-candle-lighting-and-remembrance-ceremony-14000
END:VEVENT

END:VCALENDAR
