BEGIN:VCALENDAR
VERSION:2.0
PRODID:-//ChamberMaster//Event Calendar 2.0//EN
METHOD:PUBLISH
X-PUBLISHED-TTL:P3D
REFRESH-INTERVAL:P3D
CALSCALE:GREGORIAN
BEGIN:VEVENT
DTSTART:20251203T230000Z
DTEND:20251204T010000Z
X-MICROSOFT-CDO-ALLDAYEVENT:FALSE
SUMMARY:Christmas Ornament Workshop
DESCRIPTION:The holiday season can bring both joy and reflection   a time to honor memories\, embrace hope\, and connect with one another. Join Cornerstone of Hope-Columbus\, Ohio for a warm and welcoming evening filled with holiday spirit and togetherness.\n\n\n\nEnjoy a cozy hot chocolate bar\, coloring and face-painting stations\, and decorate your own ornament to take home. Plus\, a special visit from Santa will make the evening even more magical! \n\n\n\nWhether you come to remember\, celebrate\, or simply to be surrounded by community\, this night offers a space of comfort\, joy\, and hope for all.
X-ALT-DESC;FMTTYPE=text/html:The holiday season can bring both joy and reflection &mdash\; a time to honor memories\, embrace hope\, and connect with one another. Join Cornerstone of Hope-Columbus\, Ohio for a warm and welcoming evening filled with holiday spirit and togetherness.<br />\n<br />\nEnjoy a cozy hot chocolate bar\, coloring and face-painting stations\, and decorate your own ornament to take home. Plus\, a special visit from Santa will make the evening even more magical!&nbsp\;<br />\n<br />\nWhether you come to remember\, celebrate\, or simply to be surrounded by community\, this night offers a space of comfort\, joy\, and hope for all.&nbsp\;
LOCATION:Cornerstone of Hope 253 N State Street\, Suite 200 Westerville\, OH 43081 Free parking available.
UID:e.1186.14043
SEQUENCE:3
DTSTAMP:20260421T053946Z
URL:https://business.westervillechamber.com/events/details/christmas-ornament-workshop-14043
END:VEVENT

END:VCALENDAR
