BEGIN:VCALENDAR
VERSION:2.0
PRODID:-//ChamberMaster//Event Calendar 2.0//EN
METHOD:PUBLISH
X-PUBLISHED-TTL:P3D
REFRESH-INTERVAL:P3D
CALSCALE:GREGORIAN
BEGIN:VEVENT
DTSTART:20190423T151500Z
DTEND:20190423T170000Z
X-MICROSOFT-CDO-ALLDAYEVENT:FALSE
SUMMARY:City of Westerville-WeConnect Fiber Network and Data Center Lunch and Learn
DESCRIPTION:IT  Personnel\, Office Managers\, and Business Owners:\n\nCome enjoy lunch and learn about the City of Westerville's WeConnect Fiber Network and Data Center\, along with the exciting new technology services available to help support and grow your business!\n\nIf you have any questions about this event\, please contact: Lee Shrader (614) 813-5378 leeshrader@metrodatacenter.com\n\nAvailable Session:\n\nTuesday\, April 23rd 11:30am - 1:00pm\n\nWinking Lizard Tavern 496 Polaris Pkwy\, Westerville\, OH 43082\n\nPLEASE RSVP:\n\nhttps://www.eventbrite.com/e/weconnect-data-center-lunch-and-learn-tickets-58335247295\n\n\n\nWeConnect Data Center | 35 Collegeview Dr\, Westerville OH 43081  614-408-9061 | www.weconnectdatacenter.com\n \n\nMetro Data Center delivers tailored high-speed internet\, colocation\, cloud and managed services.\n\n\n\nWe are the Data Center with a Di?erence!
X-ALT-DESC;FMTTYPE=text/html:<div style="text-align:center"><span style="font-size:14px"><span style="color:#FF0000"><strong>IT&nbsp\; Personnel\, Office Managers\, and Business Owners:</strong></span></span></div>\n\n<div style="text-align:center">Come enjoy lunch and learn about the City of Westerville&rsquo\;s WeConnect Fiber Network and Data Center\, along with the exciting new technology services available to help support and grow your business!<br />\nIf you have any questions about this event\, please contact: Lee Shrader (614) 813-5378 leeshrader@metrodatacenter.com</div>\n\n<div style="text-align:center">Available Session:<br />\nTuesday\, April 23rd 11:30am - 1:00pm<br />\nWinking Lizard Tavern 496 Polaris Pkwy\, Westerville\, OH 43082</div>\n\n<div style="text-align:center"><span style="font-size:12px"><strong>PLEASE RSVP:</strong></span></div>\n\n<div style="text-align:center">https://www.eventbrite.com/e/weconnect-data-center-lunch-and-learn-tickets-58335247295</div>\n\n<div style="text-align:center"><br />\nWeConnect Data Center | 35 Collegeview Dr\, Westerville OH 43081&nbsp\; 614-408-9061 | www.weconnectdatacenter.com</div>\n&nbsp\;\n\n<div style="text-align:center"><em><strong>Metro Data Center delivers tailored high-speed internet\, colocation\, cloud and managed services.<br />\n<br />\nWe are the Data Center with a Di?erence!</strong></em></div>\n
LOCATION:Winking Lizard Tavern 496 Polaris Pkwy Westerville\, OH 43082
UID:e.1186.3193
SEQUENCE:3
DTSTAMP:20260421T014402Z
URL:https://business.westervillechamber.com/events/details/city-of-westerville-weconnect-fiber-network-and-data-center-lunch-and-learn-3193
END:VEVENT

END:VCALENDAR
