BEGIN:VCALENDAR
VERSION:2.0
PRODID:-//ChamberMaster//Event Calendar 2.0//EN
METHOD:PUBLISH
X-PUBLISHED-TTL:P3D
REFRESH-INTERVAL:P3D
CALSCALE:GREGORIAN
BEGIN:VEVENT
DTSTART:20260704T210000Z
DTEND:20260705T014500Z
X-MICROSOFT-CDO-ALLDAYEVENT:FALSE
SUMMARY:Concert Series & Food Truck Festival
DESCRIPTION:2026 Free Concert & Food Truck Festival\n\n\n\nThe Rotary Club of Westerville again in 2026 will present its free annual Concert Series to help residents and visitors celebrate the Independence Day holiday. The concert and accompanying Food Truck Festival will again this year be held at the Westerville Sports Complex\, 325 N. Cleveland Ave.
X-ALT-DESC;FMTTYPE=text/html:<strong><span style="font-size:16px\;">2026 Free Concert &amp\; Food Truck Festival</span></strong><br />\n<br />\nThe Rotary Club of Westerville again in 2026 will present its free annual Concert Series to help residents and visitors celebrate the Independence Day holiday. The concert and accompanying Food Truck Festival will again this year be held at the Westerville Sports Complex\, 325 N. Cleveland Ave.
LOCATION:325 N. Cleveland Ave Westerville
UID:e.1186.14698
SEQUENCE:3
DTSTAMP:20260421T145819Z
URL:https://business.westervillechamber.com/events/details/concert-series-food-truck-festival-14698
END:VEVENT

END:VCALENDAR
