BEGIN:VCALENDAR
VERSION:2.0
PRODID:-//ChamberMaster//Event Calendar 2.0//EN
METHOD:PUBLISH
X-PUBLISHED-TTL:P3D
REFRESH-INTERVAL:P3D
CALSCALE:GREGORIAN
BEGIN:VEVENT
DTSTART:20220921T230000Z
DTEND:20220922T010000Z
X-MICROSOFT-CDO-ALLDAYEVENT:FALSE
SUMMARY:Coterie: Quarterly Arts Salon
DESCRIPTION:From the Co-Founders of WesterBall comes Coterie\, a FREE arts event! We dreamed it up as a way to engage with all of our members and make new friends in the process.\n\n\n\nWhen: Wednesday\, September 21\, 2022 from 7-9 PM\n\nWhere: The Old Bag of Nails\, 3rd Floor\n\n\n\nCoterie\, held once every quarter\, is an exclusive member salon and networking event bringing artists\, art enthusiasts\, supporters of the arts\, and city leaders together to spend a couple of hours discussing new works\, projects\, hurdles\, ideas\, funding\, and more while getting to know other art-minded people in the community. There will be a guest speak\, cash bar\, and live music/performances at each one.\n\n\n\nBy now you may already know about our incredible September guest speaker\, Mark Donavan (Saxophonist & Pianist\, he is currently the instrumental music director at Fort Hayes Arts and Academic High School)\, but what you don't know is you also be treated to a performance by members of the Columbus Youth Jazz Orchestra!\n\n\n\nNot a current member of The Arts Council of Westerville (ACW)? That's ok   you can become a member and register for this FREE event at www.artscouncilofwesterville.com.\n\n\n\nConsidering membership\, but want to check things out first? That's ok   Ask a current ACW member to bring you as a guest. We cannot wait to get to know you!
X-ALT-DESC;FMTTYPE=text/html:From the Co-Founders of WesterBall comes Coterie\, a FREE arts event! We dreamed it up as a way to engage with all of our members and make new friends in the process.<br />\n<br />\nWhen: Wednesday\, September 21\, 2022 from 7-9 PM<br />\nWhere: The Old Bag of Nails\, 3rd Floor<br />\n<br />\nCoterie\, held once every quarter\, is an exclusive member salon and networking event bringing artists\, art enthusiasts\, supporters of the arts\, and city leaders together to spend a couple of hours discussing new works\, projects\, hurdles\, ideas\, funding\, and more while getting to know other art-minded people in the community. There will be a guest speak\, cash bar\, and live music/performances at each one.<br />\n<br />\nBy now you may already know about our incredible September guest speaker\, Mark Donavan (Saxophonist &amp\; Pianist\, he is currently the instrumental music director at Fort Hayes Arts and Academic High School)\, but what you don&rsquo\;t know is you also be treated to a performance by members of the Columbus Youth Jazz Orchestra!<br />\n<br />\nNot a current member of The Arts Council of Westerville (ACW)? That&rsquo\;s ok &ndash\; you can become a member and register for this FREE event at www.artscouncilofwesterville.com.<br />\n<br />\nConsidering membership\, but want to check things out first? That&rsquo\;s ok &ndash\; Ask a current ACW member to bring you as a guest. We cannot wait to get to know you!
LOCATION:The Old Bag of Nails 24 North State Street\, 3rd Floor Westerville\, OH 43081
UID:e.1186.7251
SEQUENCE:3
DTSTAMP:20260421T165336Z
URL:https://business.westervillechamber.com/events/details/coterie-quarterly-arts-salon-09-21-2022-7251
END:VEVENT

END:VCALENDAR
