BEGIN:VCALENDAR
VERSION:2.0
PRODID:-//ChamberMaster//Event Calendar 2.0//EN
METHOD:PUBLISH
X-PUBLISHED-TTL:P3D
REFRESH-INTERVAL:P3D
CALSCALE:GREGORIAN
BEGIN:VEVENT
DTSTART:20250517T130000Z
DTEND:20250517T150000Z
X-MICROSOFT-CDO-ALLDAYEVENT:FALSE
SUMMARY:CPR/AED/First Aid with Narcan Training - Hybrid (Adult)
DESCRIPTION:The Adult First Aid/CPR/AED hybrid course requires four hours of online pre-course work\, prior to attending the in-person hands-on session. Students will be equipped with the knowledge necessary to recognize and care for a variety of first aid\, breathing\, and cardiac emergencies involving adults. We want our students to walk away with confidence to act. You will receive a 2-year Red Cross digital certificate that is OSHA compliant and meets other workplace and regulatory requirements. Before registering\, please verify the location of the in-person hands-on session and language preference. This class will close 24 hours prior to the hands-on session\, due to pre-class work. https://www.safex.us/product/cpr-aed-first-aid-adult-workplace/
X-ALT-DESC;FMTTYPE=text/html:<span style="color:rgb(63\, 63\, 63)\; font-family:open sans\; font-size:17px">The Adult First Aid/CPR/AED hybrid course requires four hours of online pre-course work\, prior to attending the in-person hands-on session. Students will be equipped with the knowledge necessary to recognize and care for a variety of first aid\, breathing\, and cardiac emergencies involving adults. We want our students to walk away with confidence to act. You will receive a 2-year Red Cross digital certificate that is OSHA compliant and meets other workplace and regulatory requirements. Before registering\, please verify the location of the in-person hands-on session and language preference. This class will close 24 hours prior to the hands-on session\, due to pre-class work.&nbsp\;</span><a href="https://www.safex.us/product/cpr-aed-first-aid-adult-workplace/">https://www.safex.us/product/cpr-aed-first-aid-adult-workplace/</a>
LOCATION:Safex Training Center 140 N. Otterbein Ave. Westerville\, OH 43081
UID:e.1186.13139
SEQUENCE:3
DTSTAMP:20260419T213533Z
URL:https://business.westervillechamber.com/events/details/cpr-aed-first-aid-with-narcan-training-hybrid-adult-05-17-2025-13139
END:VEVENT

END:VCALENDAR
