BEGIN:VCALENDAR
VERSION:2.0
PRODID:-//ChamberMaster//Event Calendar 2.0//EN
METHOD:PUBLISH
X-PUBLISHED-TTL:P3D
REFRESH-INTERVAL:P3D
CALSCALE:GREGORIAN
BEGIN:VEVENT
DTSTART:20260114T193000Z
DTEND:20260114T213000Z
X-MICROSOFT-CDO-ALLDAYEVENT:FALSE
SUMMARY:Cricut Design
DESCRIPTION:Learn how to use Cricut Design Space\, the software that works with the Cricut in the Innovation Lab. Get an overview of the software and plenty of time to explore.\n\nSuitable for beginners who have never used the Cricut as well as anyone who wants to learn more about the many options Cricut Design Space has to offer.
X-ALT-DESC;FMTTYPE=text/html:<div>\n<p>Learn how to use Cricut Design Space\, the software that works with the Cricut in the Innovation Lab. Get an overview of the software and plenty of time to explore.</p>\n\n<p>Suitable for beginners who have never used the Cricut as well as anyone who wants to learn more about the many options Cricut Design Space has to offer.</p>\n</div>\n
LOCATION:Westerville Public Library
UID:e.1186.14064
SEQUENCE:3
DTSTAMP:20260421T053916Z
URL:https://business.westervillechamber.com/events/details/cricut-design-14064
END:VEVENT

END:VCALENDAR
