BEGIN:VCALENDAR
VERSION:2.0
PRODID:-//ChamberMaster//Event Calendar 2.0//EN
METHOD:PUBLISH
X-PUBLISHED-TTL:P3D
REFRESH-INTERVAL:P3D
CALSCALE:GREGORIAN
BEGIN:VEVENT
DTSTART:20250814T230000Z
DTEND:20250815T010000Z
X-MICROSOFT-CDO-ALLDAYEVENT:FALSE
SUMMARY:DAOU Wine Dinner
DESCRIPTION:Join us in a four-course curated dinner experience featuring premium wines from DAOU Vineyards. Discover the refreshing DAOU Ros \, along with expressive reds including Pessimist and DAOU Reserve wines\, perfectly paired with decadent cuts of Wagyu Porterhouse\, Lamb Chops\, and more.\n\n\n\nPlus\, enjoy a special price to take home the three-bottle collection from DAOU Vineyards curated just for the event.
X-ALT-DESC;FMTTYPE=text/html:<span style="color:rgb(12\, 35\, 63)\; font-family:mrseavesxlserifot-reg\; font-size:15px">Join us in a four-course curated dinner experience featuring premium wines from DAOU Vineyards. Discover the refreshing DAOU Ros&eacute\;\, along with expressive reds including Pessimist and DAOU Reserve wines\, perfectly paired with decadent cuts of Wagyu Porterhouse\, Lamb Chops\, and more.</span><br />\n<br />\n<em>Plus\, enjoy a special price to take home the three-bottle collection from DAOU Vineyards curated just for the event.</em>
LOCATION:Fogo de Chao - Columbus 1425 Polaris Parkway Columbus\, OH 43240
UID:e.1186.13784
SEQUENCE:3
DTSTAMP:20260419T131405Z
URL:https://business.westervillechamber.com/events/details/daou-wine-dinner-13784
END:VEVENT

END:VCALENDAR
