BEGIN:VCALENDAR
VERSION:2.0
PRODID:-//ChamberMaster//Event Calendar 2.0//EN
METHOD:PUBLISH
X-PUBLISHED-TTL:P3D
REFRESH-INTERVAL:P3D
CALSCALE:GREGORIAN
BEGIN:VEVENT
DTSTART:20251031T210000Z
DTEND:20251101T000000Z
X-MICROSOFT-CDO-ALLDAYEVENT:FALSE
SUMMARY:Dave & Boo-sters Boo Bash
DESCRIPTION:? Celebrate Halloween with the whole family! Enjoy a night full of crafts\, games\, and fun activities at Dave & Busters! ?? Date: Fri Oct 31st ? Time: 5:00PM to 8:00PM. ?? Venue: Dave & Buster's Columbus-Polaris ?? Age: All ages are welcome. ?? $14.99 + taxes & fees ?? Family-friendly Halloween activities. ?? Safe\, indoor environment. ??? Ticket Includes: 3-hour Unlimited Game Play ?? Food & Drinks: Available for purchase\, with 15% off food and non-alcoholic beverages for ticket holders.
X-ALT-DESC;FMTTYPE=text/html:? Celebrate Halloween with the whole family! Enjoy a night full of crafts\, games\, and fun activities at Dave &amp\; Busters! ?? Date: Fri Oct 31st ? Time: 5:00PM to 8:00PM. ?? Venue: Dave &amp\; Buster&#39\;s Columbus-Polaris ?? Age: All ages are welcome. ?? $14.99 + taxes &amp\; fees ?? Family-friendly Halloween activities. ?? Safe\, indoor environment. ??? Ticket Includes: 3-hour Unlimited Game Play ?? Food &amp\; Drinks: Available for purchase\, with 15% off food and non-alcoholic beverages for ticket holders.
LOCATION:Polaris Fashion Place 1554 Polaris Pkwy Columbus\, OH 43240
UID:e.1186.14012
SEQUENCE:3
DTSTAMP:20260422T220206Z
URL:https://business.westervillechamber.com/events/details/dave-boo-sters-boo-bash-14012
END:VEVENT

END:VCALENDAR
