BEGIN:VCALENDAR
VERSION:2.0
PRODID:-//ChamberMaster//Event Calendar 2.0//EN
METHOD:PUBLISH
X-PUBLISHED-TTL:P3D
REFRESH-INTERVAL:P3D
CALSCALE:GREGORIAN
BEGIN:VEVENT
DTSTART:20251008T220000Z
DTEND:20251009T010000Z
X-MICROSOFT-CDO-ALLDAYEVENT:FALSE
SUMMARY:Duckhorn Wine Dinner
DESCRIPTION:Join us for an evening showcasing well-crafted pours and accompanying Chef-curated courses. A representative of Duckhorn Vineyards will offer insight into the five selected wines and the history of the vineyards. Wednesday\, October 8 | 6:00 PM FIRST COURSE GOAT CHEESE apple\, pomegranate\, phyllo paired with North Coast Sauvignon Blanc SECOND COURSE PORK CHOP cider brined\, grit cake\, fig & apple chutney paired with Napa Valley Chardonnay THIRD COURSE ROHAN DUCK BREAST pan-roasted\, orange & fig demi\, sage potato dauphinois paired with Napa Valley Merlot FOURTH COURSE SHORT RIB cabernet sauvignon braised\, parmesan potato gratin paired with Napa Valley Cabernet Sauvignon FIFTH COURSE PUMPKIN SPICED CAKE brown butter frosting\, vanilla bean ice cream paired with Napa Valley Cabernet Sauvignon Mulled Wine Signature Cocktail Enjoy this exclusive event for $140 per person. Reserve your spot by calling (614) 840-9090 today! Tax/gratuity are not included in the price of the ticket
X-ALT-DESC;FMTTYPE=text/html:Join us for an evening showcasing well-crafted pours and accompanying Chef-curated courses. A representative of Duckhorn Vineyards will offer insight into the five selected wines and the history of the vineyards. Wednesday\, October 8 | 6:00 PM FIRST COURSE GOAT CHEESE apple\, pomegranate\, phyllo paired with North Coast Sauvignon Blanc SECOND COURSE PORK CHOP cider brined\, grit cake\, fig &amp\; apple chutney paired with Napa Valley Chardonnay THIRD COURSE ROHAN DUCK BREAST pan-roasted\, orange &amp\; fig demi\, sage potato dauphinois paired with Napa Valley Merlot FOURTH COURSE SHORT RIB cabernet sauvignon braised\, parmesan potato gratin paired with Napa Valley Cabernet Sauvignon FIFTH COURSE PUMPKIN SPICED CAKE brown butter frosting\, vanilla bean ice cream paired with Napa Valley Cabernet Sauvignon Mulled Wine Signature Cocktail Enjoy this exclusive event for $140 per person. Reserve your spot by calling (614) 840-9090 today! Tax/gratuity are not included in the price of the ticket
LOCATION:J.Gilbert's Wood-Fired Steaks & Seafood 1 E. Campus View Blvd Columbus\, OH 43235
UID:e.1186.14003
SEQUENCE:3
DTSTAMP:20260422T215649Z
URL:https://business.westervillechamber.com/events/details/duckhorn-wine-dinner-14003
END:VEVENT

END:VCALENDAR
