BEGIN:VCALENDAR
VERSION:2.0
PRODID:-//ChamberMaster//Event Calendar 2.0//EN
METHOD:PUBLISH
X-PUBLISHED-TTL:P3D
REFRESH-INTERVAL:P3D
CALSCALE:GREGORIAN
BEGIN:VEVENT
DTSTART:20250506T103000Z
DTEND:20250506T233000Z
X-MICROSOFT-CDO-ALLDAYEVENT:FALSE
SUMMARY:Election Day
DESCRIPTION:Election Day\n\nPolls are open from 6:30 AM - 7:30 PM\n\nCheck your voter registration status and polling location HERE.
X-ALT-DESC;FMTTYPE=text/html:Election Day<br />\nPolls are open from 6:30 AM - 7:30 PM<br />\nCheck your voter registration status and polling location&nbsp\;<a href="https://voterlookup.ohiosos.gov/voterlookup.aspx">HERE</a>.
LOCATION:Check your voter registration status and polling location HERE.
UID:e.1186.13647
SEQUENCE:3
DTSTAMP:20260419T211848Z
URL:https://business.westervillechamber.com/events/details/election-day-13647
END:VEVENT

END:VCALENDAR
