BEGIN:VCALENDAR
VERSION:2.0
PRODID:-//ChamberMaster//Event Calendar 2.0//EN
METHOD:PUBLISH
X-PUBLISHED-TTL:P3D
REFRESH-INTERVAL:P3D
CALSCALE:GREGORIAN
BEGIN:VEVENT
DTSTART:20251212T220000Z
DTEND:20251213T000000Z
X-MICROSOFT-CDO-ALLDAYEVENT:FALSE
SUMMARY:Empty Bowls
DESCRIPTION:Empty Bowls is an event put on by Columbus Academy and Westerville's Habitat for Humanity in which student-made ceramic bowls are sold to raise money for the Walls Build. At the Walls Build CA families and members of our community build a home for someone in need. Each bowl is unique and is dishwasher and microwave-safe! This event is a great way to support growing artists and those in need within your community.
X-ALT-DESC;FMTTYPE=text/html:Empty Bowls is an event put on by Columbus Academy and Westerville&#39\;s Habitat for Humanity in which student-made ceramic bowls are sold to raise money for the Walls Build. At the Walls Build CA families and members of our community build a home for someone in need. Each bowl is unique and is dishwasher and microwave-safe! This event is a great way to support growing artists and those in need within your community.
LOCATION:Westerville Senior Center (350 N. Cleveland Ave. Westerville\, Ohio 43082)
UID:e.1186.14073
SEQUENCE:3
DTSTAMP:20260423T003328Z
URL:https://business.westervillechamber.com/events/details/empty-bowls-14073
END:VEVENT

END:VCALENDAR
