BEGIN:VCALENDAR
VERSION:2.0
PRODID:-//ChamberMaster//Event Calendar 2.0//EN
METHOD:PUBLISH
X-PUBLISHED-TTL:P3D
REFRESH-INTERVAL:P3D
CALSCALE:GREGORIAN
BEGIN:VEVENT
DTSTART:20260110T150000Z
DTEND:20260110T170000Z
X-MICROSOFT-CDO-ALLDAYEVENT:FALSE
SUMMARY:Estate Planning
DESCRIPTION:Estate Planning ensures that your final wishes are clear and your estate is secure. BMI Federal Credit Union has partnered with a trusted attorney to explain the benefits of having an estate plan and the documents needed.
X-ALT-DESC;FMTTYPE=text/html:Estate Planning ensures that your final wishes are clear and your estate is secure. BMI Federal Credit Union has partnered with a trusted attorney to explain the benefits of having an estate plan and the documents needed.
LOCATION:BMI Federal Credit Union 6165 Emerald Parkway Dublin\, OH 43016
UID:e.1186.14093
SEQUENCE:3
DTSTAMP:20260421T053947Z
URL:https://business.westervillechamber.com/events/details/estate-planning-14093
END:VEVENT

END:VCALENDAR
