BEGIN:VCALENDAR
VERSION:2.0
PRODID:-//ChamberMaster//Event Calendar 2.0//EN
METHOD:PUBLISH
X-PUBLISHED-TTL:P3D
REFRESH-INTERVAL:P3D
CALSCALE:GREGORIAN
BEGIN:VEVENT
DTSTART:20261120T230000Z
DTEND:20261121T040000Z
X-MICROSOFT-CDO-ALLDAYEVENT:FALSE
SUMMARY:Evening of Elegance 2026
DESCRIPTION:The Westerville Area Chamber of Commerce cordially invites you to attend Evening of Elegance. Proceeds from this annual fundraising gala support our Chamber in its mission to enhance the business climate and quality of life in our community. \n \n\n \n\nSilent Auction:\n\n \n\n\nSuccessful bidders in attendance will have the option to take their items home that evening. Checkout opens at 9:00pm.\n\n\n\n**CLICK HERE TO PRE-REGISTER**\n\n**Bidding will open Fri\, Nov 13th 8:30am**\n\n**Bidding will close Fri\, Nov 20th 8:30pm**\n\n\n\n\n\nDress Code:\n\nFormal or cocktail attire is welcome. \n\nDietary Restrictions:\n\nWhen registering\, please note any dietary restrictions in the comment section. If you are the host of a corporate table\, please provide any notes on your attendees' behalf (i.e. vegan\, gluten-free). During cocktail hour\, guests will enjoy complimentary hors d'oeuvres.\n\n\n\nWine Tasting & Spirits Sampling:\n\nAvailable 6:00p-8:30p.\n\n\n\nPre-order or night-of ticket sales available (cash\, card\, or Venmo accepted). \n\n\n	\n	$15 for Wine Tasting [includes (4) pours]\n	\n	\n	$25 for Spirits Sampling [includes (4) pours]\n	\n\n\n \n\n\n\nDiamonds Direct Raffle:\n\nRaffle ticket cost: $50/ticket. Limited ticket quantities available.\n\n\n\nLive Auction:\n\n\n\nThe Live Auction\, Sponsored by OhioHealth\, will begin immediately after our raffle winner is drawn\, around 9:00pm.\n \n\nNo refunds given within 72 hours of the event. \n\nPlease note one or more bars may accept cash-only. On-site ATM available. \n\nWARNING: This event will have special effect lighting displayed in the main ballroom that may potentially trigger seizures for people with photosensitive epilepsy. Please contact the Chamber immediately if you have registered for this event and this disclaimer affects you: 614-882-8917.
X-ALT-DESC;FMTTYPE=text/html:<div>\n<h2 style="font-style:italic\;"><span style="font-size:20px\;"><strong>The Westerville Area Chamber of Commerce cordially invites you to attend&nbsp\;<span style="color:#0000FF\;">Evening of Elegance.</span></strong></span><span style="font-size:20px\;"><strong><span style="color:#B22222\;">&nbsp\;</span></strong><strong>Proceeds from this&nbsp\;annual fundraising gala support our Chamber in its mission to&nbsp\;<em>enhance the business climate and quality of life in our community.</em></strong><strong>&nbsp\;</strong></span></h2>\n&nbsp\;\n\n<h4>&nbsp\;</h4>\n\n<h1><span style="color: rgb(0\, 0\, 255)\;"><span style="font-family: arial\;">Silent Auction:</span></span></h1>\n\n<h4>&nbsp\;</h4>\n\n<div>\n<h1><span style="font-size: 14px\;"><span style="font-family: arial\;">Successful bidders in attendance will have the option to take their items home that evening. Checkout opens at 9:00pm.<br />\n<br />\n<span style="font-size: 18px\;"><strong>**<a href="https://wachamber.cbo.io">CLICK HERE TO PRE-REGISTER**</a></strong><br />\n**Bidding will open Fri\, Nov 13th 8:30am**<br />\n**Bidding will close Fri\, Nov 20th 8:30pm**</span></span></span></h1>\n</div>\n<br />\n<br />\n<span style="color:#0000FF\;"><span style="font-family:arial\;">Dress Code:</span></span>\n\n<p><span style="font-family:arial\;"><span style="font-size:14px\;">Formal or cocktail attire is welcome.&nbsp\;</span></span></p>\n\n<h4><span style="color:#0000FF\;"><span style="font-family:arial\;">Dietary Restrictions:</span></span></h4>\n</div>\n<span style="font-family:arial\;"><span style="font-size:14px\;">When registering\, please note any dietary restrictions in the comment section. If you are the host of a corporate table\, please provide any notes on your attendees&#39\; behalf (i.e. vegan\, gluten-free). <strong>During cocktail hour\, guests will enjoy complimentary hors d&#39\;oeuvres.</strong></span></span>\n\n<h4><br />\n<span style="color:#0000FF\;"><span style="font-family:arial\;">Wine Tasting &amp\; Spirits Sampling:</span></span></h4>\n\n<p><span style="font-family:arial\;"><span style="font-size:14px\;">Available 6:00p-8:30p.</span></span></p>\n\n<p><br />\n<span style="color:#0000FF\;"><span style="font-family:arial\;">Pre-order or night-of ticket sales available&nbsp\;</span><span style="font-family: arial\;">(cash\, card\, or Venmo accepted).&nbsp\;</span></span></p>\n\n<ul>\n	<li>\n	<p><span style="font-size:14px\;"><span style="font-family:arial\;">$15&nbsp\;for Wine Tasting [includes (4) pours]</span></span></p>\n	</li>\n	<li>\n	<p><span style="font-size:14px\;"><span style="font-family:arial\;">$25&nbsp\;for Spirits Sampling [includes (4)&nbsp\;pours]</span></span></p>\n	</li>\n</ul>\n\n<div color:="" data-olk-copy-source="MessageBody" dir="auto" font-feature-settings:="" font-kerning:="" font-optical-sizing:="" font-size-adjust:="" font-variation-settings:="" helvetica="" margin:="" padding:="" segoe="" style="border: 0px\; font-variant-numeric: inherit\; font-variant-east-asian: inherit\; font-variant-alternates: inherit\; font-variant-position: inherit\; font-stretch: inherit\; font-size: 15px\; line-height: inherit\; font-family: " ui="" vertical-align:="" web="" west="">&nbsp\;</div>\n\n<h4><br />\n<span style="color:#0000FF\;"><span style="font-family: arial\;">Diamonds Direct Raffle:</span></span></h4>\n\n<p><span style="font-family: arial\; font-size: 14px\;">Raffle ticket cost:&nbsp\;</span><strong style="font-family: arial\; font-size: 14px\;">$50/ticket.&nbsp\;</strong><span style="font-family: arial\; font-size: 14px\;">Limited ticket quantities available.</span><br />\n<br />\n<span style="color:#0000FF\;"><span style="font-family:arial\;">Live Auction:</span></span></p>\n\n<div>\n<div>\n<p><span style="font-size:14px\;"><span style="font-family:arial\;">The&nbsp\;Live Auction\, Sponsored by OhioHealth\,&nbsp\;will begin immediately after our raffle winner is drawn\, around 9:00pm.</span></span></p>\n&nbsp\;\n\n<div style="background:#eee\;border:1px solid #ccc\;padding:5px 10px\;"><span style="font-family:arial\;"><strong><span style="font-size:14px\;"><span style="color: rgb(32\, 33\, 34)\;">No refunds given within 72&nbsp\;hours of the event.&nbsp\;</span></span></strong></span></div>\n\n<div style="background:#eee\;border:1px solid #ccc\;padding:5px 10px\;"><span style="font-family:arial\;"><strong><span style="font-size:14px\;">Please note one or more&nbsp\;bars may&nbsp\;accept cash-only. On-site ATM available.&nbsp\;</span></strong></span></div>\n\n<div style="background:#eee\;border:1px solid #ccc\;padding:5px 10px\;"><span style="font-family:arial\;"><span style="color: rgb(32\, 33\, 34)\; font-size: 14px\;"><strong>WARNING</strong>:&nbsp\;<u>This event will have special effect lighting displayed in the main ballroom that&nbsp\;may potentially trigger seizures for people with photosensitive epilepsy. Please contact the Chamber immediately if you have registered for this event and this disclaimer affects you: 614-882-8917.</u></span></span></div>\n</div>\n</div>\n\n<div>&nbsp\;</div>\n
LOCATION:Renaissance Columbus Westerville-Polaris 409 Altair Pkwy. Westerville\, OH 43082
UID:e.1186.14111
SEQUENCE:3
DTSTAMP:20260423T092912Z
URL:https://business.westervillechamber.com/events/details/evening-of-elegance-2026-14111
END:VEVENT

END:VCALENDAR
