BEGIN:VCALENDAR
VERSION:2.0
PRODID:-//ChamberMaster//Event Calendar 2.0//EN
METHOD:PUBLISH
X-PUBLISHED-TTL:P3D
REFRESH-INTERVAL:P3D
CALSCALE:GREGORIAN
BEGIN:VEVENT
DTSTART;VALUE=DATE:20251114
DTEND;VALUE=DATE:20251122
TRANSP:TRANSPARENT
X-MICROSOFT-CDO-ALLDAYEVENT:TRUE
SUMMARY:Evening of Elegance Virtual Silent Auction
DESCRIPTION:The Westerville Area Chamber's annual Evening of Elegance silent auction fundraiser will showcase items and packages from our generous donors and local businesses\n\n\n\n**Guests may browse and bid HERE**
X-ALT-DESC;FMTTYPE=text/html:<h1 style="text-align: center\;"><span style="font-family: arial\;"><span style="color:#0000FF\;"><strong>The Westerville Area Chamber&#39\;s annual Evening of Elegance&nbsp\;silent&nbsp\;auction fundraiser&nbsp\;will&nbsp\;showcase&nbsp\;items and packages from our generous donors and local businesses</strong></span><br />\n<br />\n<strong>**Guests may browse and bid&nbsp\;<a href="https://wachamber.cbo.io">HERE</a>**</strong></span></h1>\n
LOCATION:VIRTUAL
UID:e.1186.14044
SEQUENCE:3
DTSTAMP:20260420T054313Z
URL:https://business.westervillechamber.com/events/details/evening-of-elegance-virtual-silent-auction-14044
END:VEVENT

END:VCALENDAR
