BEGIN:VCALENDAR
VERSION:2.0
PRODID:-//ChamberMaster//Event Calendar 2.0//EN
METHOD:PUBLISH
X-PUBLISHED-TTL:P3D
REFRESH-INTERVAL:P3D
CALSCALE:GREGORIAN
BEGIN:VEVENT
DTSTART:20250921T200000Z
DTEND:20250921T220000Z
X-MICROSOFT-CDO-ALLDAYEVENT:FALSE
SUMMARY:Fall Mini Photography Sessions
DESCRIPTION:Mini photography sessions for families or couples by a photographer with over 15 years of experience! An easy and organized experience that is fun for kids with a quick turnaround. You choose your digital images with print release. Details can be found on https://www.luckyfamilyphotography.com/minis
X-ALT-DESC;FMTTYPE=text/html:<span style="color:rgb(68\, 68\, 68)\; font-family:arial\,helvetica\,sans-serif\; font-size:14px">Mini photography sessions for families or couples by a photographer with over 15 years of experience! An easy and organized experience that is fun for kids with a quick turnaround. You choose your digital images with print release. Details can be found on&nbsp\;</span><a href="https://www.luckyfamilyphotography.com/minis" style="box-sizing: border-box\; color: rgb(44\, 88\, 145)\; text-decoration: none\; overflow-wrap: break-word\; outline: 0px\; font-family: Arial\, Helvetica\, sans-serif\; font-size: 14px\;"><span style="color:rgb(16\, 109\, 180)">https://www.luckyfamilyphotography.com/minis</span></a><span style="color:rgb(68\, 68\, 68)\; font-family:arial\,helvetica\,sans-serif\; font-size:14px">&nbsp\;</span>
LOCATION:Inniswood Metro Garden
UID:e.1186.13735
SEQUENCE:3
DTSTAMP:20260419T133555Z
URL:https://business.westervillechamber.com/events/details/fall-mini-photography-sessions-13735
END:VEVENT

END:VCALENDAR
