BEGIN:VCALENDAR
VERSION:2.0
PRODID:-//ChamberMaster//Event Calendar 2.0//EN
METHOD:PUBLISH
X-PUBLISHED-TTL:P3D
REFRESH-INTERVAL:P3D
CALSCALE:GREGORIAN
BEGIN:VEVENT
DTSTART:20251018T193000Z
DTEND:20251018T221500Z
X-MICROSOFT-CDO-ALLDAYEVENT:FALSE
SUMMARY:Fall Mini Photoshoot
DESCRIPTION:Mini photography sessions for families or couples by a local mom and full-time photographer with over 15 years of experience! An easy and organized experience that is fun for kids with a quick turnaround. You choose your digital images with print release. Details can be found on https://www.luckyfamilyphotography.com/minis
X-ALT-DESC;FMTTYPE=text/html:<p>Mini photography sessions for families or couples by a local mom and full-time photographer with over 15 years of experience! An easy and organized experience that is fun for kids with a quick turnaround. You choose your digital images with print release. Details can be found on&nbsp\;<a href="https://www.luckyfamilyphotography.com/minis"><span style="color:rgb(18\, 87\, 165)">https://www.luckyfamilyphotography.com/minis</span></a>&nbsp\;</p>\n
LOCATION:Creekside Park
UID:e.1186.13737
SEQUENCE:3
DTSTAMP:20260422T220228Z
URL:https://business.westervillechamber.com/events/details/fall-mini-photoshoot-13737
END:VEVENT

END:VCALENDAR
