BEGIN:VCALENDAR
VERSION:2.0
PRODID:-//ChamberMaster//Event Calendar 2.0//EN
METHOD:PUBLISH
X-PUBLISHED-TTL:P3D
REFRESH-INTERVAL:P3D
CALSCALE:GREGORIAN
BEGIN:VEVENT
DTSTART;VALUE=DATE:20260522
DTEND;VALUE=DATE:20260526
TRANSP:TRANSPARENT
X-MICROSOFT-CDO-ALLDAYEVENT:TRUE
SUMMARY:Field of Heroes
DESCRIPTION:The Field of Heroes is an opportunity for our community members to honor their personal heroes - whoever they are... a family member\; a friend\; a veteran\; a member of the armed services\; a favorite teacher\; a police officer\; a firefighter or any other person who has made in impact on their lives.\n\n\n\nThe Field of Heroes is held annually over the Memorial Day weekend at the Westerville\, OH Sports Complex.  The event is proudly presented by the Westerville Sunrise Rotary Club.\n\n\n\nSchedule of Events\n\nFriday\, May 22\n\n6:00 P.M.\n\nBagpipe Serenade - performance by Brody Alexandeer\n\n\n\n8:30 P.M.\n\n"Taps" | Field Illuminated Until Dawn\n\n\n\n9:00 P.M.\n\nFlag\, Challenge Coin\, & Poppy sales close for the night\n\n\n\nSaturday\, May 23\n\n12:00 P.M.\n\nReading of Names on Dedicated Flags\n\n\n\n2:00 P.M.\n\nOhio Village Muffins vs Westerville Sunrise Rotary Bagels\n\n\n\n7:00 P.M.\n\nFree Concert featuring the Westerville Symphony\n\n\n\n8:30 P.M.\n\n"Taps" | Field Illuminated Until Dawn\n\n\n\n9:00 P.M.\n\nFlag\, Challenge Coin\, & Poppy sales close for the night\n\n\n\nSunday\, May 24\n\n8:00 A.M.\n\nField of Heroes 5K Run/Walk Presented by Ohio Health\n\n\n\n12:00 P.M.\n\nReading of Names on Dedicated Flags\n\n\n\n1:00 - 3:00 P.M.\n\nPioneer Cemetery Tour* presented by the Westerville Historical Society\n\n\n\n7:00 P.M.\n\nCeremony honoring our Vietnam Veterans\n\n\n\n8:30 P.M.\n\n"Taps" | Field Illuminated Until Dawn\n\n\n\n9:00 P.M.\n\nFlag\, Challenge Coin\, & Poppy sales close for the night\n\n\n\nMonday\, May 25\n\n10:30 A.M.\n\nFlag Sales Close for Event\n\n\n\n11:30 P.M.\n\nReading of Names on Dedicated Flags\n\n\n\n12:15 P.M.\n\nMemorial Day Closing Ceremony\n\n\n\n1:00 P.M.\n\nField of Heroes closes\n\n\n\n1:00 - 3:30 P.M.\n\nFlag Pick-Up\n\n\n\n3:00 P.M.\n\nPoppy & Challenge Coin Sales Close
X-ALT-DESC;FMTTYPE=text/html:<p>The Field of Heroes is an opportunity for our community members to honor their personal heroes - whoever they are... a family member\; a friend\; a veteran\; a member of the armed services\; a favorite teacher\; a police officer\; a firefighter or any other person who has made in impact on their lives.<br />\n<br />\nThe Field of Heroes is held annually over the Memorial Day weekend at the Westerville\, OH Sports Complex.&nbsp\; The event is proudly presented by the Westerville Sunrise Rotary Club.<br />\n<br />\n<u><span style="font-size:16px\;">Schedule of Events</span></u><br />\n<strong>Friday\, May 22</strong><br />\n6:00 P.M.<br />\nBagpipe Serenade - performance by Brody Alexandeer<br />\n<br />\n8:30 P.M.<br />\n&quot\;Taps&quot\; | Field Illuminated Until Dawn<br />\n<br />\n9:00 P.M.<br />\nFlag\, Challenge Coin\, &amp\; Poppy sales close for the night<br />\n<br />\n<strong>Saturday\, May 23</strong><br />\n12:00 P.M.<br />\nReading of Names on Dedicated Flags<br />\n<br />\n2:00 P.M.<br />\nOhio Village Muffins vs Westerville Sunrise Rotary Bagels<br />\n<br />\n7:00 P.M.<br />\nFree Concert featuring the Westerville Symphony<br />\n<br />\n8:30 P.M.<br />\n&quot\;Taps&quot\; | Field Illuminated Until Dawn<br />\n<br />\n9:00 P.M.<br />\nFlag\, Challenge Coin\, &amp\; Poppy sales close for the night<br />\n<br />\n<strong>Sunday\, May 24</strong><br />\n8:00 A.M.<br />\nField of Heroes 5K Run/Walk Presented by Ohio Health<br />\n<br />\n12:00 P.M.<br />\nReading of Names on Dedicated Flags<br />\n<br />\n1:00 - 3:00 P.M.<br />\nPioneer Cemetery Tour* presented by the Westerville Historical Society<br />\n<br />\n7:00 P.M.<br />\nCeremony honoring our Vietnam Veterans<br />\n<br />\n8:30 P.M.<br />\n&quot\;Taps&quot\; | Field Illuminated Until Dawn<br />\n<br />\n9:00 P.M.<br />\nFlag\, Challenge Coin\, &amp\; Poppy sales close for the night<br />\n<br />\n<strong>Monday\, May 25</strong><br />\n10:30 A.M.<br />\nFlag Sales Close for Event<br />\n<br />\n11:30 P.M.<br />\nReading of Names on Dedicated Flags<br />\n<br />\n12:15 P.M.<br />\nMemorial Day Closing Ceremony<br />\n<br />\n1:00 P.M.<br />\nField of Heroes closes<br />\n<br />\n1:00 - 3:30 P.M.<br />\nFlag Pick-Up<br />\n<br />\n3:00 P.M.<br />\nPoppy &amp\; Challenge Coin Sales Close</p>\n
LOCATION:Westerville Sports Complex 325 N Cleveland Ave Westerville\, OH 43082
UID:e.1186.14700
SEQUENCE:3
DTSTAMP:20260419T135330Z
URL:https://business.westervillechamber.com/events/details/field-of-heroes-14700
END:VEVENT

END:VCALENDAR
