BEGIN:VCALENDAR
VERSION:2.0
PRODID:-//ChamberMaster//Event Calendar 2.0//EN
METHOD:PUBLISH
X-PUBLISHED-TTL:P3D
REFRESH-INTERVAL:P3D
CALSCALE:GREGORIAN
BEGIN:VEVENT
DTSTART:20250525T120000Z
DTEND:20250525T160000Z
X-MICROSOFT-CDO-ALLDAYEVENT:FALSE
SUMMARY:Field of Heroes 5K Run/Walk
DESCRIPTION:This family/friendly 5k Run/Walk offers unique opportunities to finish among 3\,000 full size American flags!\n\nSign up for the Field of Heroes 5k Run/Walk for an active and alternative way to honor your heroes in a unique and breathtaking setting. This flat course is on paved recreation paths\, against one of the most memorable backdrops you'll ever experience!\n\nThis event is limited to 1\,200 participants so register early to secure your spot!
X-ALT-DESC;FMTTYPE=text/html:<p class="mt-3" style="box-sizing: border-box\; margin-bottom: 1rem\; color: rgb(255\, 255\, 255)\; font-family: system-ui\, -apple-system\, &quot\;Segoe UI&quot\;\, Roboto\, &quot\;Helvetica Neue&quot\;\, &quot\;Noto Sans&quot\;\, &quot\;Liberation Sans&quot\;\, Arial\, sans-serif\, &quot\;Apple Color Emoji&quot\;\, &quot\;Segoe UI Emoji&quot\;\, &quot\;Segoe UI Symbol&quot\;\, &quot\;Noto Color Emoji&quot\;\; font-size: 16px\; background-color: rgb(40\, 44\, 52)\; margin-top: 1rem !important\;">This family/friendly 5k Run/Walk offers unique opportunities to finish among 3\,000 full size American flags!</p>\n\n<p class="mt-3" style="box-sizing: border-box\; margin-bottom: 1rem\; color: rgb(255\, 255\, 255)\; font-family: system-ui\, -apple-system\, &quot\;Segoe UI&quot\;\, Roboto\, &quot\;Helvetica Neue&quot\;\, &quot\;Noto Sans&quot\;\, &quot\;Liberation Sans&quot\;\, Arial\, sans-serif\, &quot\;Apple Color Emoji&quot\;\, &quot\;Segoe UI Emoji&quot\;\, &quot\;Segoe UI Symbol&quot\;\, &quot\;Noto Color Emoji&quot\;\; font-size: 16px\; background-color: rgb(40\, 44\, 52)\; margin-top: 1rem !important\;">Sign up for the Field of Heroes 5k Run/Walk for an active and alternative way to honor your heroes in a unique and breathtaking setting. This flat course is on paved recreation paths\, against one of the most memorable backdrops you&rsquo\;ll ever experience!</p>\n\n<p class="mt-3" style="box-sizing: border-box\; margin-bottom: 1rem\; color: rgb(255\, 255\, 255)\; font-family: system-ui\, -apple-system\, &quot\;Segoe UI&quot\;\, Roboto\, &quot\;Helvetica Neue&quot\;\, &quot\;Noto Sans&quot\;\, &quot\;Liberation Sans&quot\;\, Arial\, sans-serif\, &quot\;Apple Color Emoji&quot\;\, &quot\;Segoe UI Emoji&quot\;\, &quot\;Segoe UI Symbol&quot\;\, &quot\;Noto Color Emoji&quot\;\; font-size: 16px\; background-color: rgb(40\, 44\, 52)\; margin-top: 1rem !important\;">This event is limited to 1\,200 participants so register early to secure your spot!</p>\n
LOCATION:Date & Time: Sunday\, May 25th\, 2025 at 8:00 AM Location: Westerville Sports Complex (Cleveland Ave. & County Line Rd.)
UID:e.1186.13697
SEQUENCE:3
DTSTAMP:20260419T182444Z
URL:https://business.westervillechamber.com/events/details/field-of-heroes-5k-run-walk-13697
END:VEVENT

END:VCALENDAR
