BEGIN:VCALENDAR
VERSION:2.0
PRODID:-//ChamberMaster//Event Calendar 2.0//EN
METHOD:PUBLISH
X-PUBLISHED-TTL:P3D
REFRESH-INTERVAL:P3D
CALSCALE:GREGORIAN
BEGIN:VEVENT
DTSTART;VALUE=DATE:20250523
DTEND;VALUE=DATE:20250527
TRANSP:TRANSPARENT
X-MICROSOFT-CDO-ALLDAYEVENT:TRUE
SUMMARY:Field of Heroes - Hosted by Westerville Sunrise Rotary
DESCRIPTION:On Memorial Day weekend 2025\, the Westerville Sunrise Rotary Club will host the 17th Annual Field of Heroes across from the Westerville Community Center on Cleveland Avenue in Westerville\, Ohio. The Field of Heroes is a unique opportunity for our community members to honor their personal heroes - whoever they are... a family member\; a friend\; a veteran\; a member of the armed services\; a favorite teacher\; a police officer\; a firefighter or any other person who has made an impact on their lives.\n\n\n\nFor more details and information please visit our website.
X-ALT-DESC;FMTTYPE=text/html:On Memorial Day weekend 2025\, the Westerville Sunrise Rotary Club will host the 17th Annual Field of Heroes across from the Westerville Community Center on Cleveland Avenue in Westerville\, Ohio. The Field of Heroes is a unique opportunity for our community members to honor their personal heroes - whoever they are... a family member\; a friend\; a veteran\; a member of the armed services\; a favorite teacher\; a police officer\; a firefighter or any other person who has made an impact on their lives.<br />\n<br />\nFor more details and information please visit our <a href="https://www.fieldofheroes.org/">website</a>.
LOCATION:
UID:e.1186.13695
SEQUENCE:3
DTSTAMP:20260419T164718Z
URL:https://business.westervillechamber.com/events/details/field-of-heroes-hosted-by-westerville-sunrise-rotary-13695
END:VEVENT

END:VCALENDAR
