BEGIN:VCALENDAR
VERSION:2.0
PRODID:-//ChamberMaster//Event Calendar 2.0//EN
METHOD:PUBLISH
X-PUBLISHED-TTL:P3D
REFRESH-INTERVAL:P3D
CALSCALE:GREGORIAN
BEGIN:VEVENT
DTSTART:20180608T153000Z
DTEND:20180611T010000Z
X-MICROSOFT-CDO-ALLDAYEVENT:FALSE
SUMMARY:Firebird's Charity Benefiting Alex's Lemonade Stand Foundation
DESCRIPTION:What better way to cool off than with a tall glass of fresh lemonade while helping fight childhood cancer?\n\n \n\nJune 8-10\, more than 20\,000 lemonade stands will be set up all over the country\, including a stand at all Firebirds Wood Fired Grill locations\, with one mission: Finding a cure. \n\n\n\nAlex's Lemonade Stand Foundation was initiated by 4-year old Alexandra Scott. Alex was diagnosed with\n\nneuroblastoma\, a type of childhood cancer\, before her first birthday. Alex's dreamed up the idea of having a lemonade stand to help fight childhood cancer. Alex was successful and then issued a lemonade stand challenge\, encouraging everyone\, everywhere to hold lemonade stands during one weekend in June to help fight the fight   "One Cup at a Time". Firebirds is honored to continue Alex's vision and legacy again this year by participating in Alex's Lemonade Days at ALL Firebirds locations the weekend of June 8th   10th  We already have a round-up donation line added to all guest checks in all restaurants. \n\n \n\nOur mission is to create awareness for Alex's Lemonade Stand Foundation and their efforts to find a cure. Our goal this year is $100\,000 with 100% of the proceeds going directly to ALSF. We hit a milestone last year of $1 million in donations with our lemonade day efforts and our ongoing initiative where $1.25 is donated for every fresh squeezed lemonade sold throughout the year. Our signature Lemonade\, "Alex's Lemonade"\, is named in honor of this brave young lady\, Alexandra Scott (Alex's Documentary - http://www.youtube.com/watch?v=upmUrxmFSA0).
X-ALT-DESC;FMTTYPE=text/html:<p class="xxmsonormal"><span style="font-size:16px\;"><span style="font-family:verdana\;">What better way to cool off than with a tall glass of fresh lemonade&mdash\;while helping fight childhood cancer?<br />\n&nbsp\;<br />\nJune 8-10\, more than 20\,000 lemonade stands will be set up all over the country\, including a stand at all Firebirds Wood Fired Grill locations\, with one mission: Finding a cure.&nbsp\;<br />\n<br />\n<span style="color: black\;">Alex&rsquo\;s Lemonade Stand Foundation was initiated by 4-year old Alexandra Scott. Alex was diagnosed with<br />\nneuroblastoma\, a type of childhood cancer\, before her first birthday. Alex&rsquo\;s dreamed up the idea of having a lemonade stand to help fight childhood cancer. Alex was successful and then issued a lemonade stand challenge\, encouraging everyone\, everywhere to hold lemonade stands during one weekend in June to help fight the fight &ndash\; &ldquo\;One Cup at a Time&rdquo\;. Firebirds is honored to continue Alex&rsquo\;s vision and legacy again this year by participating in Alex&rsquo\;s Lemonade Days at ALL Firebirds locations the weekend of June 8<sup>th</sup> &ndash\; 10<sup>th</sup> &nbsp\;We already have a round-up donation line added to all guest checks in all restaurants. </span></span></span><span style="font-size:12.0pt\;color:black"><o:p></o:p></span></p>\n\n<p class="xxmsonormal"><span style="font-size:16px\;"><span style="font-family:verdana\;"><span style="color: black\;">&nbsp\;</span></span></span><span style="font-size:12.0pt\;color:black"><o:p></o:p></span></p>\n\n<p class="xxmsonormal"><span style="font-size:16px\;"><span style="font-family:verdana\;"><span style="color: black\;">Our mission is to create awareness for Alex&rsquo\;s Lemonade Stand Foundation and their efforts to find a cure. Our goal this year is <b><u>$100\,000</u></b> with <strong>100% of the proceeds</strong> going directly to ALSF. We hit a milestone last year of $1 million in donations with our lemonade day efforts and our ongoing initiative where $1.25 is donated for every fresh squeezed lemonade sold throughout the year. Our signature Lemonade\, &ldquo\;Alex&rsquo\;s Lemonade&rdquo\;\, is named in honor of this brave young lady\, Alexandra Scott (Alex&rsquo\;s Documentary - <a href="http://www.youtube.com/watch?v=upmUrxmFSA0" target="_blank">http://www.youtube.com/watch?v=upmUrxmFSA0</a>).</span></span></span><span style="font-size:12.0pt\;color:black"><o:p></o:p></span></p>\n
LOCATION:Firebirds Wood Fired Grill 8760 Sancus Blvd. Columbus\, Oh 43240
UID:e.1186.2980
SEQUENCE:3
DTSTAMP:20260421T171859Z
URL:https://business.westervillechamber.com/events/details/firebird-s-charity-benefiting-alex-s-lemonade-stand-foundation-2980
END:VEVENT

END:VCALENDAR
