BEGIN:VCALENDAR
VERSION:2.0
PRODID:-//ChamberMaster//Event Calendar 2.0//EN
METHOD:PUBLISH
X-PUBLISHED-TTL:P3D
REFRESH-INTERVAL:P3D
CALSCALE:GREGORIAN
BEGIN:VEVENT
DTSTART:20260705T020000Z
DTEND:20260705T024500Z
X-MICROSOFT-CDO-ALLDAYEVENT:FALSE
SUMMARY:Fireworks
DESCRIPTION:Westerville's 2025 Fireworks Display\n\nBeginning at 10 p.m.\, on Friday\, JULY 4\, 2025\n\n\n\nThe Rotary Club of Westerville's daylong Independence Day Celebration concludes as always with our big Fireworks Show\, presented with the sponsorship of the City of Westerville.\n\n\n\nThe fireworks follow our Free Concert Series at the Westerville Sports Complex\, after the last band leaves the stage about 9:45 p.m.\n\n\n\nThe Fireworks Show will be timed to patriotic music\, simulcast live from the concert venue at the Sports Complex as it is broadcast by the Westerville radio station and event sponsor\, 104.9 FM The River.\n\n\n\nThe best place to catch the Fireworks Show will be the Westerville Sports Complex   the site of our Free Concert Series and Food Truck Festival from 5-9:45 p.m.\n\n\n\nThe Concert and Food Truck Festival site is a great place to stick around and catch the Westerville fireworks!\n\n\n\nFamilies are encouraged to bring blankets and lawn chairs to make an Independence Day evening of it!\n\n\n\nNOTE: Heritage Park will be closed to residents as a viewing location for the fireworks display\, due to safety precautions. The Westerville Sports Complex\, 325 N. Cleveland Ave.\, is the best site for viewing the show! The City also will close Cleveland Avenue between County LIne Road and Heritage Park\, from 2-11 p.m.\,\, to accommodate the expanded celebration!
X-ALT-DESC;FMTTYPE=text/html:<span style="font-size:16px\;"><strong>Westerville&rsquo\;s 2025 Fireworks Display<br />\nBeginning at 10 p.m.\, on Friday\, JULY 4\, 2025</strong></span><br />\n<br />\nThe Rotary Club of Westerville&rsquo\;s daylong Independence Day Celebration concludes as always with our big Fireworks Show\, presented with the sponsorship of the City of Westerville.<br />\n<br />\nThe fireworks follow our Free Concert Series at the Westerville Sports Complex\, after the last band leaves the stage about 9:45 p.m.<br />\n<br />\nThe Fireworks Show will be timed to patriotic music\, simulcast live from the concert venue at the Sports Complex as it is broadcast by the Westerville radio station and event sponsor\, 104.9 FM The River.<br />\n<br />\nThe best place to catch the Fireworks Show will be the Westerville Sports Complex &ndash\; the site of our Free Concert Series and Food Truck Festival from 5-9:45 p.m.<br />\n<br />\nThe Concert and Food Truck Festival site is a great place to stick around and catch the Westerville fireworks!<br />\n<br />\nFamilies are encouraged to bring blankets and lawn chairs to make an Independence Day evening of it!<br />\n<br />\nNOTE: Heritage Park will be closed to residents as a viewing location for the fireworks display\, due to safety precautions. The Westerville Sports Complex\, 325 N. Cleveland Ave.\, is the best site for viewing the show! The City also will close Cleveland Avenue between County LIne Road and Heritage Park\, from 2-11 p.m.\,\, to accommodate the expanded celebration!
LOCATION:Westerville Sports Complex 325 N. Cleveland Ave
UID:e.1186.14699
SEQUENCE:3
DTSTAMP:20260420T140411Z
URL:https://business.westervillechamber.com/events/details/fireworks-14699
END:VEVENT

END:VCALENDAR
