BEGIN:VCALENDAR
VERSION:2.0
PRODID:-//ChamberMaster//Event Calendar 2.0//EN
METHOD:PUBLISH
X-PUBLISHED-TTL:P3D
REFRESH-INTERVAL:P3D
CALSCALE:GREGORIAN
BEGIN:VEVENT
DTSTART:20240718T203000Z
DTEND:20240718T220000Z
X-MICROSOFT-CDO-ALLDAYEVENT:FALSE
SUMMARY:Foster Parenting Informational Free Webinar
DESCRIPTION:Foster Parenting Informational Free Webinar with Adriel Foster Care\n\n\n\nFind our how you can help local foster children and make a positive change in the lives of children in your community. Learn about how to become a part-time respite caregiver\, about the foster parent application process\, about the support available to Adriel foster families\, and more!\n\n\n\nFree. Open to the public. Held virtually. No obligation required. \n\n\n\nRegister today by completing the inquiry form at www.adriel.org/become-a-foster-parent/\n\n\n\n#BeTheOne
X-ALT-DESC;FMTTYPE=text/html:Foster Parenting Informational Free Webinar with Adriel Foster Care<br />\n<br />\nFind our how you can help local foster children and make a positive change in the lives of children in your community. Learn about how to become a part-time respite caregiver\, about the foster parent application process\, about the support available to Adriel foster families\, and more!<br />\n<br />\nFree. Open to the public. Held virtually. No obligation required.&nbsp\;<br />\n<br />\nRegister today by completing the inquiry form at www.adriel.org/become-a-foster-parent/<br />\n<br />\n#BeTheOne
LOCATION:Virtual
UID:e.1186.12254
SEQUENCE:3
DTSTAMP:20260422T140457Z
URL:https://business.westervillechamber.com/events/details/foster-parenting-informational-free-webinar-07-18-2024-12254
END:VEVENT

END:VCALENDAR
