BEGIN:VCALENDAR
VERSION:2.0
PRODID:-//ChamberMaster//Event Calendar 2.0//EN
METHOD:PUBLISH
X-PUBLISHED-TTL:P3D
REFRESH-INTERVAL:P3D
CALSCALE:GREGORIAN
BEGIN:VEVENT
DTSTART:20250814T213000Z
DTEND:20250814T230000Z
X-MICROSOFT-CDO-ALLDAYEVENT:FALSE
SUMMARY:Franklin County Auditor's Office Presents Community Connects
DESCRIPTION:Community Connects:  Home Buyer/New Homeowner Edition\n\n	Talk one-on-one with experts from every department\n	Discover services that protect\, support and inform\n	Learn more about the services available to new homeowners in Franklin County\n\nTopics Include:\n\n\n	Property values & appraisal\n	Board of Revision filings\n	Dog Licensing\n	Fraud prevention\n	Homestead exemption\n	Title transfers\n	Legislative Efforts and more!\n\nContact Us:\n\n\n	614-525-HOME\n	AuditorStinziano@franklincountyohio.gov\n	www.franklincountyauditor.com
X-ALT-DESC;FMTTYPE=text/html:Community Connects:&nbsp\; Home Buyer/New Homeowner Edition\n<ul>\n	<li>Talk one-on-one with experts from every department</li>\n	<li>Discover services that protect\, support and inform</li>\n	<li>Learn more about the services available to new homeowners in Franklin County</li>\n</ul>\nTopics Include:\n\n<ul>\n	<li>Property values &amp\; appraisal</li>\n	<li>Board of Revision filings</li>\n	<li>Dog Licensing</li>\n	<li>Fraud prevention</li>\n	<li>Homestead exemption</li>\n	<li>Title transfers</li>\n	<li>Legislative Efforts and more!</li>\n</ul>\nContact Us:\n\n<ul>\n	<li>614-525-HOME</li>\n	<li>AuditorStinziano@franklincountyohio.gov</li>\n	<li>www.franklincountyauditor.com</li>\n</ul>\n
LOCATION:Westerville Community Center 350 N. Cleveland Ave. Westerville\, OH 43082
UID:e.1186.13788
SEQUENCE:3
DTSTAMP:20260419T131822Z
URL:https://business.westervillechamber.com/events/details/franklin-county-auditor-s-office-presents-community-connects-13788
END:VEVENT

END:VCALENDAR
