BEGIN:VCALENDAR
VERSION:2.0
PRODID:-//ChamberMaster//Event Calendar 2.0//EN
METHOD:PUBLISH
X-PUBLISHED-TTL:P3D
REFRESH-INTERVAL:P3D
CALSCALE:GREGORIAN
BEGIN:VEVENT
DTSTART:20211019T203000Z
DTEND:20211019T223000Z
X-MICROSOFT-CDO-ALLDAYEVENT:FALSE
SUMMARY:FREE Drive-Through Trick-or-Treat
DESCRIPTION:The Alpha Group presents FREE Drive-Through Trick-or-Treat!\n\n\n\nTrick-or-Treat from the safety of your car as local businesses pass out treats!\n\n\n\n*First come\, First served - Supplies are Limited*\n\n\n\nDress up in your costume and bring a bag to collect your treats!
X-ALT-DESC;FMTTYPE=text/html:The Alpha Group presents FREE Drive-Through Trick-or-Treat!<br />\n<br />\nTrick-or-Treat from the safety of your car as local businesses pass out treats!<br />\n<br />\n*First come\, First served - Supplies are Limited*<br />\n<br />\nDress up in your costume and bring a bag to collect your treats!
LOCATION:1000 Alpha Drive Delaware\, OH 43015
UID:e.1186.5464
SEQUENCE:3
DTSTAMP:20260422T041144Z
URL:https://business.westervillechamber.com/events/details/free-drive-through-trick-or-treat-5464
END:VEVENT

END:VCALENDAR
